BEGIN:VCALENDAR
VERSION:2.0
PRODID:-//Castle Rock ALC - ECPv6.15.3//NONSGML v1.0//EN
CALSCALE:GREGORIAN
METHOD:PUBLISH
X-ORIGINAL-URL:https://www.castlerockalc.com
X-WR-CALDESC:Events for Castle Rock ALC
REFRESH-INTERVAL;VALUE=DURATION:PT1H
X-Robots-Tag:noindex
X-PUBLISHED-TTL:PT1H
BEGIN:VTIMEZONE
TZID:UTC
BEGIN:STANDARD
TZOFFSETFROM:+0000
TZOFFSETTO:+0000
TZNAME:UTC
DTSTART:20260101T000000
END:STANDARD
END:VTIMEZONE
BEGIN:VEVENT
DTSTART;TZID=UTC:20260301T110000
DTEND;TZID=UTC:20260301T120000
DTSTAMP:20260423T161300
CREATED:20260227T012748Z
LAST-MODIFIED:20260227T012748Z
UID:3297-1772362800-1772366400@www.castlerockalc.com
SUMMARY:11am.   Joel Kandoll
DESCRIPTION:
URL:https://www.castlerockalc.com/event/11am-joel-kandoll-8/
END:VEVENT
BEGIN:VEVENT
DTSTART;TZID=UTC:20260303T120000
DTEND;TZID=UTC:20260303T130000
DTSTAMP:20260423T161300
CREATED:20260227T025031Z
LAST-MODIFIED:20260227T034108Z
UID:3314-1772539200-1772542800@www.castlerockalc.com
SUMMARY:3:15pm.   Singing at The Villager\, Living Room
DESCRIPTION:
URL:https://www.castlerockalc.com/event/1315pm-singing-at-the-villager-dining-room/
END:VEVENT
BEGIN:VEVENT
DTSTART;TZID=UTC:20260308T110000
DTEND;TZID=UTC:20260308T120000
DTSTAMP:20260423T161300
CREATED:20260227T012910Z
LAST-MODIFIED:20260227T030830Z
UID:3299-1772967600-1772971200@www.castlerockalc.com
SUMMARY:11am.   Greg Somero * Communion * Meal
DESCRIPTION:
URL:https://www.castlerockalc.com/event/11am-greg-somero-communion-meal-4/
END:VEVENT
BEGIN:VEVENT
DTSTART;TZID=UTC:20260312T113000
DTEND;TZID=UTC:20260312T133000
DTSTAMP:20260423T161300
CREATED:20260227T013956Z
LAST-MODIFIED:20260227T013956Z
UID:3311-1773315000-1773322200@www.castlerockalc.com
SUMMARY:11:30am.     Ladies Lunch at Amaro’s Table\, CR
DESCRIPTION:
URL:https://www.castlerockalc.com/event/1130am-ladies-lunch-at-amaros-table-cr/
END:VEVENT
BEGIN:VEVENT
DTSTART;TZID=UTC:20260313T190000
DTEND;TZID=UTC:20260313T200000
DTSTAMP:20260423T161300
CREATED:20260227T013553Z
LAST-MODIFIED:20260311T035724Z
UID:3307-1773428400-1773432000@www.castlerockalc.com
SUMMARY:7pm.    Bible Study at the Church
DESCRIPTION:
URL:https://www.castlerockalc.com/event/7pm-bible-study-at-the-church/
END:VEVENT
BEGIN:VEVENT
DTSTART;TZID=UTC:20260315T110000
DTEND;TZID=UTC:20260315T120000
DTSTAMP:20260423T161300
CREATED:20260227T013013Z
LAST-MODIFIED:20260227T030750Z
UID:3301-1773572400-1773576000@www.castlerockalc.com
SUMMARY:11am.   Donny Matson
DESCRIPTION:
URL:https://www.castlerockalc.com/event/11am-donny-matson-2/
END:VEVENT
BEGIN:VEVENT
DTSTART;TZID=UTC:20260322T110000
DTEND;TZID=UTC:20260322T120000
DTSTAMP:20260423T161300
CREATED:20260227T013228Z
LAST-MODIFIED:20260227T031216Z
UID:3303-1774177200-1774180800@www.castlerockalc.com
SUMMARY:11am.    Greg Somero
DESCRIPTION:
URL:https://www.castlerockalc.com/event/11am-greg-somero-6/
END:VEVENT
BEGIN:VEVENT
DTSTART;TZID=UTC:20260327T190000
DTEND;TZID=UTC:20260327T200000
DTSTAMP:20260423T161300
CREATED:20260227T013711Z
LAST-MODIFIED:20260311T035431Z
UID:3309-1774638000-1774641600@www.castlerockalc.com
SUMMARY:7pm.    Bible Study - Dave and Kristie’s
DESCRIPTION:
URL:https://www.castlerockalc.com/event/7pm-bible-study-at-beth-wirkkalas/
END:VEVENT
BEGIN:VEVENT
DTSTART;TZID=UTC:20260329T110000
DTEND;TZID=UTC:20260329T120000
DTSTAMP:20260423T161300
CREATED:20260227T013344Z
LAST-MODIFIED:20260227T031311Z
UID:3305-1774782000-1774785600@www.castlerockalc.com
SUMMARY:11am.   Burt Farley * Meal
DESCRIPTION:
URL:https://www.castlerockalc.com/event/11am-burt-farley-meal-2/
END:VEVENT
END:VCALENDAR