BEGIN:VCALENDAR
VERSION:2.0
PRODID:-//Castle Rock ALC - ECPv6.15.3//NONSGML v1.0//EN
CALSCALE:GREGORIAN
METHOD:PUBLISH
X-ORIGINAL-URL:https://www.castlerockalc.com
X-WR-CALDESC:Events for Castle Rock ALC
REFRESH-INTERVAL;VALUE=DURATION:PT1H
X-Robots-Tag:noindex
X-PUBLISHED-TTL:PT1H
BEGIN:VTIMEZONE
TZID:UTC
BEGIN:STANDARD
TZOFFSETFROM:+0000
TZOFFSETTO:+0000
TZNAME:UTC
DTSTART:20250101T000000
END:STANDARD
END:VTIMEZONE
BEGIN:VEVENT
DTSTART;TZID=UTC:20251102T110000
DTEND;TZID=UTC:20251102T120000
DTSTAMP:20260423T224904
CREATED:20251031T225423Z
LAST-MODIFIED:20251031T225423Z
UID:3175-1762081200-1762084800@www.castlerockalc.com
SUMMARY:11am. Greg Somero Ordination/Central Board/Joel Kandoll/Meal
DESCRIPTION:
URL:https://www.castlerockalc.com/event/11am-greg-somero-ordination-central-board-joel-kandoll-meal/
END:VEVENT
BEGIN:VEVENT
DTSTART;TZID=UTC:20251109T110000
DTEND;TZID=UTC:20251109T120000
DTSTAMP:20260423T224904
CREATED:20251031T223744Z
LAST-MODIFIED:20251031T223744Z
UID:3177-1762686000-1762689600@www.castlerockalc.com
SUMMARY:11am  Greg Somero * Communion
DESCRIPTION:
URL:https://www.castlerockalc.com/event/11am-greg-somero-communion-5/
END:VEVENT
BEGIN:VEVENT
DTSTART;TZID=UTC:20251111T113000
DTEND;TZID=UTC:20251111T130000
DTSTAMP:20260423T224904
CREATED:20251031T223924Z
LAST-MODIFIED:20251031T224409Z
UID:3179-1762860600-1762866000@www.castlerockalc.com
SUMMARY:11:30am  Ladies Lunch - Amaro’s Table\, Castle Rock
DESCRIPTION:
URL:https://www.castlerockalc.com/event/1130am-ladies-lunch-amaros-table-castle-rock/
END:VEVENT
BEGIN:VEVENT
DTSTART;TZID=UTC:20251114T190000
DTEND;TZID=UTC:20251114T200000
DTSTAMP:20260423T224904
CREATED:20251031T224739Z
LAST-MODIFIED:20251031T224739Z
UID:3183-1763146800-1763150400@www.castlerockalc.com
SUMMARY:7pm  Bible Study - Dan and Paula’s
DESCRIPTION:
URL:https://www.castlerockalc.com/event/7pm-bible-study-dan-and-paulas/
END:VEVENT
BEGIN:VEVENT
DTSTART;TZID=UTC:20251116T110000
DTEND;TZID=UTC:20251116T120000
DTSTAMP:20260423T224904
CREATED:20251031T224523Z
LAST-MODIFIED:20251031T224523Z
UID:3181-1763290800-1763294400@www.castlerockalc.com
SUMMARY:11am  Ron Holmgren
DESCRIPTION:
URL:https://www.castlerockalc.com/event/11am-ron-holmgren/
END:VEVENT
BEGIN:VEVENT
DTSTART;TZID=UTC:20251123T110000
DTEND;TZID=UTC:20251123T120000
DTSTAMP:20260423T224904
CREATED:20251031T225005Z
LAST-MODIFIED:20251031T225005Z
UID:3185-1763895600-1763899200@www.castlerockalc.com
SUMMARY:11am   Greg Somero
DESCRIPTION:
URL:https://www.castlerockalc.com/event/11am-greg-somero-5/
END:VEVENT
BEGIN:VEVENT
DTSTART;TZID=UTC:20251130T110000
DTEND;TZID=UTC:20251130T120000
DTSTAMP:20260423T224904
CREATED:20251031T225117Z
LAST-MODIFIED:20251031T225117Z
UID:3187-1764500400-1764504000@www.castlerockalc.com
SUMMARY:11am  Kim Mickelson * Meal
DESCRIPTION:
URL:https://www.castlerockalc.com/event/11am-kim-mickelson-meal/
END:VEVENT
END:VCALENDAR