BEGIN:VCALENDAR
VERSION:2.0
PRODID:-//Castle Rock ALC - ECPv6.15.3//NONSGML v1.0//EN
CALSCALE:GREGORIAN
METHOD:PUBLISH
X-WR-CALNAME:Castle Rock ALC
X-ORIGINAL-URL:https://www.castlerockalc.com
X-WR-CALDESC:Events for Castle Rock ALC
REFRESH-INTERVAL;VALUE=DURATION:PT1H
X-Robots-Tag:noindex
X-PUBLISHED-TTL:PT1H
BEGIN:VTIMEZONE
TZID:UTC
BEGIN:STANDARD
TZOFFSETFROM:+0000
TZOFFSETTO:+0000
TZNAME:UTC
DTSTART:20250101T000000
END:STANDARD
END:VTIMEZONE
BEGIN:VEVENT
DTSTART;TZID=UTC:20250907T110000
DTEND;TZID=UTC:20250907T120000
DTSTAMP:20260424T020700
CREATED:20250901T181333Z
LAST-MODIFIED:20250901T181333Z
UID:3100-1757242800-1757246400@www.castlerockalc.com
SUMMARY:11am.   Joel Kandoll
DESCRIPTION:
URL:https://www.castlerockalc.com/event/11am-joel-kandoll-7/
END:VEVENT
BEGIN:VEVENT
DTSTART;TZID=UTC:20250912T190000
DTEND;TZID=UTC:20250912T200000
DTSTAMP:20260424T020700
CREATED:20250901T182045Z
LAST-MODIFIED:20250901T182045Z
UID:3108-1757703600-1757707200@www.castlerockalc.com
SUMMARY:7pm.    Bible Study ~ Joel and Elaine Kandoll’s
DESCRIPTION:
URL:https://www.castlerockalc.com/event/7pm-bible-study-joel-and-elaine-kandolls/
END:VEVENT
BEGIN:VEVENT
DTSTART;TZID=UTC:20250913T120000
DTEND;TZID=UTC:20250913T170000
DTSTAMP:20260424T020700
CREATED:20250901T182315Z
LAST-MODIFIED:20250901T182315Z
UID:3116-1757764800-1757782800@www.castlerockalc.com
SUMMARY:8am.     Breakfast and Work Day
DESCRIPTION:
URL:https://www.castlerockalc.com/event/8am-breakfast-and-work-day/
END:VEVENT
BEGIN:VEVENT
DTSTART;TZID=UTC:20250914T110000
DTEND;TZID=UTC:20250914T120000
DTSTAMP:20260424T020700
CREATED:20250901T181444Z
LAST-MODIFIED:20250901T181444Z
UID:3102-1757847600-1757851200@www.castlerockalc.com
SUMMARY:11am.    Greg Somero * Communion * Meal
DESCRIPTION:
URL:https://www.castlerockalc.com/event/11am-greg-somero-communion-meal-3/
END:VEVENT
BEGIN:VEVENT
DTSTART;TZID=UTC:20250921T110000
DTEND;TZID=UTC:20250921T120000
DTSTAMP:20260424T020700
CREATED:20250901T181528Z
LAST-MODIFIED:20250902T224527Z
UID:3104-1758452400-1758456000@www.castlerockalc.com
SUMMARY:11am.     Donny Matson * Meal
DESCRIPTION:
URL:https://www.castlerockalc.com/event/11am-tba/
END:VEVENT
BEGIN:VEVENT
DTSTART;TZID=UTC:20250926T190000
DTEND;TZID=UTC:20250926T200000
DTSTAMP:20260424T020700
CREATED:20250901T182158Z
LAST-MODIFIED:20250901T182158Z
UID:3113-1758913200-1758916800@www.castlerockalc.com
SUMMARY:7pm.    Bible Study ~ Beth Wirkkala’s
DESCRIPTION:
URL:https://www.castlerockalc.com/event/7pm-bible-study-beth-wirkkalas/
END:VEVENT
BEGIN:VEVENT
DTSTART;TZID=UTC:20250928T110000
DTEND;TZID=UTC:20250928T120000
DTSTAMP:20260424T020700
CREATED:20250901T181917Z
LAST-MODIFIED:20250901T181928Z
UID:3106-1759057200-1759060800@www.castlerockalc.com
SUMMARY:11am.    Greg Somero
DESCRIPTION:
URL:https://www.castlerockalc.com/event/11am-greg-somero-4/
END:VEVENT
END:VCALENDAR