BEGIN:VCALENDAR
VERSION:2.0
PRODID:-//Castle Rock ALC - ECPv6.15.3//NONSGML v1.0//EN
CALSCALE:GREGORIAN
METHOD:PUBLISH
X-ORIGINAL-URL:https://www.castlerockalc.com
X-WR-CALDESC:Events for Castle Rock ALC
REFRESH-INTERVAL;VALUE=DURATION:PT1H
X-Robots-Tag:noindex
X-PUBLISHED-TTL:PT1H
BEGIN:VTIMEZONE
TZID:UTC
BEGIN:STANDARD
TZOFFSETFROM:+0000
TZOFFSETTO:+0000
TZNAME:UTC
DTSTART:20250101T000000
END:STANDARD
END:VTIMEZONE
BEGIN:VEVENT
DTSTART;TZID=UTC:20250803T110000
DTEND;TZID=UTC:20250803T120000
DTSTAMP:20260424T035437
CREATED:20250731T212401Z
LAST-MODIFIED:20250731T212401Z
UID:3087-1754218800-1754222400@www.castlerockalc.com
SUMMARY:11am.    Joel Kandoll
DESCRIPTION:
URL:https://www.castlerockalc.com/event/11am-joel-kandoll-6/
END:VEVENT
BEGIN:VEVENT
DTSTART;TZID=UTC:20250810T110000
DTEND;TZID=UTC:20250810T150000
DTSTAMP:20260424T035437
CREATED:20250731T212559Z
LAST-MODIFIED:20250731T212559Z
UID:3089-1754823600-1754838000@www.castlerockalc.com
SUMMARY:11:00am.     Greg Somero * Communion * Ss Picnic at Carl & Donna’s
DESCRIPTION:
URL:https://www.castlerockalc.com/event/1100am-greg-somero-communion-ss-picnic-at-carl-donnas/
END:VEVENT
BEGIN:VEVENT
DTSTART;TZID=UTC:20250817T110000
DTEND;TZID=UTC:20250817T120000
DTSTAMP:20260424T035437
CREATED:20250731T212717Z
LAST-MODIFIED:20250731T212717Z
UID:3094-1755428400-1755432000@www.castlerockalc.com
SUMMARY:11:00am.     Tom Lappi.
DESCRIPTION:
URL:https://www.castlerockalc.com/event/1100am-tom-lappi/
END:VEVENT
BEGIN:VEVENT
DTSTART;TZID=UTC:20250824T110000
DTEND;TZID=UTC:20250824T120000
DTSTAMP:20260424T035437
CREATED:20250731T212837Z
LAST-MODIFIED:20250731T212837Z
UID:3096-1756033200-1756036800@www.castlerockalc.com
SUMMARY:11:00am.     Greg Somero
DESCRIPTION:
URL:https://www.castlerockalc.com/event/1100am-greg-somero-26/
END:VEVENT
BEGIN:VEVENT
DTSTART;TZID=UTC:20250831T110000
DTEND;TZID=UTC:20250831T120000
DTSTAMP:20260424T035437
CREATED:20250731T213003Z
LAST-MODIFIED:20250731T213003Z
UID:3098-1756638000-1756641600@www.castlerockalc.com
SUMMARY:11:00am.      Burt Farley
DESCRIPTION:
URL:https://www.castlerockalc.com/event/1100am-burt-farley/
END:VEVENT
END:VCALENDAR