BEGIN:VCALENDAR
VERSION:2.0
PRODID:-//Castle Rock ALC - ECPv6.15.3//NONSGML v1.0//EN
CALSCALE:GREGORIAN
METHOD:PUBLISH
X-WR-CALNAME:Castle Rock ALC
X-ORIGINAL-URL:https://www.castlerockalc.com
X-WR-CALDESC:Events for Castle Rock ALC
REFRESH-INTERVAL;VALUE=DURATION:PT1H
X-Robots-Tag:noindex
X-PUBLISHED-TTL:PT1H
BEGIN:VTIMEZONE
TZID:UTC
BEGIN:STANDARD
TZOFFSETFROM:+0000
TZOFFSETTO:+0000
TZNAME:UTC
DTSTART:20250101T000000
END:STANDARD
END:VTIMEZONE
BEGIN:VEVENT
DTSTART;TZID=UTC:20250504T110000
DTEND;TZID=UTC:20250504T120000
DTSTAMP:20260424T094236
CREATED:20250502T032604Z
LAST-MODIFIED:20250502T032604Z
UID:3034-1746356400-1746360000@www.castlerockalc.com
SUMMARY:11am.  Aaron Hendrickson * Meal
DESCRIPTION:
URL:https://www.castlerockalc.com/event/11am-aaron-hendrickson-meal/
END:VEVENT
BEGIN:VEVENT
DTSTART;TZID=UTC:20250509T190000
DTEND;TZID=UTC:20250509T200000
DTSTAMP:20260424T094236
CREATED:20250502T033051Z
LAST-MODIFIED:20250502T033051Z
UID:3042-1746817200-1746820800@www.castlerockalc.com
SUMMARY:7:00pm.   Bible Study ~ Dave and Kristie’s
DESCRIPTION:
URL:https://www.castlerockalc.com/event/700pm-bible-study-dave-and-kristies/
END:VEVENT
BEGIN:VEVENT
DTSTART;TZID=UTC:20250511T110000
DTEND;TZID=UTC:20250511T120000
DTSTAMP:20260424T094236
CREATED:20250502T032706Z
LAST-MODIFIED:20250502T032706Z
UID:3036-1746961200-1746964800@www.castlerockalc.com
SUMMARY:11am.  Greg Somero * Communion
DESCRIPTION:
URL:https://www.castlerockalc.com/event/11am-greg-somero-communion-3/
END:VEVENT
BEGIN:VEVENT
DTSTART;TZID=UTC:20250516T190000
DTEND;TZID=UTC:20250516T200000
DTSTAMP:20260424T094236
CREATED:20250502T033211Z
LAST-MODIFIED:20250502T033211Z
UID:3044-1747422000-1747425600@www.castlerockalc.com
SUMMARY:7:00pm.   Bible Study ~ Greg and Rachel’s
DESCRIPTION:
URL:https://www.castlerockalc.com/event/700pm-bible-study-greg-and-rachels/
END:VEVENT
BEGIN:VEVENT
DTSTART;TZID=UTC:20250518T110000
DTEND;TZID=UTC:20250518T120000
DTSTAMP:20260424T094236
CREATED:20250502T032804Z
LAST-MODIFIED:20250502T032804Z
UID:3038-1747566000-1747569600@www.castlerockalc.com
SUMMARY:11am.  Allan Wirkkala
DESCRIPTION:
URL:https://www.castlerockalc.com/event/11am-allan-wirkkala-2/
END:VEVENT
BEGIN:VEVENT
DTSTART;VALUE=DATE:20250525
DTEND;VALUE=DATE:20250526
DTSTAMP:20260424T094236
CREATED:20250502T032919Z
LAST-MODIFIED:20250502T032919Z
UID:3040-1748131200-1748217599@www.castlerockalc.com
SUMMARY:Memorial Day Weekend * No Service
DESCRIPTION:
URL:https://www.castlerockalc.com/event/memorial-day-weekend-no-service/
END:VEVENT
END:VCALENDAR