BEGIN:VCALENDAR
VERSION:2.0
PRODID:-//Castle Rock ALC - ECPv6.15.3//NONSGML v1.0//EN
CALSCALE:GREGORIAN
METHOD:PUBLISH
X-ORIGINAL-URL:https://www.castlerockalc.com
X-WR-CALDESC:Events for Castle Rock ALC
REFRESH-INTERVAL;VALUE=DURATION:PT1H
X-Robots-Tag:noindex
X-PUBLISHED-TTL:PT1H
BEGIN:VTIMEZONE
TZID:UTC
BEGIN:STANDARD
TZOFFSETFROM:+0000
TZOFFSETTO:+0000
TZNAME:UTC
DTSTART:20250101T000000
END:STANDARD
END:VTIMEZONE
BEGIN:VEVENT
DTSTART;TZID=UTC:20250406T110000
DTEND;TZID=UTC:20250406T120000
DTSTAMP:20260424T114052
CREATED:20250402T233731Z
LAST-MODIFIED:20250402T233731Z
UID:3018-1743937200-1743940800@www.castlerockalc.com
SUMMARY:11am.     Joel Kandoll
DESCRIPTION:am
URL:https://www.castlerockalc.com/event/11am-joel-kandoll-4/
END:VEVENT
BEGIN:VEVENT
DTSTART;TZID=UTC:20250409T190000
DTEND;TZID=UTC:20250409T200000
DTSTAMP:20260424T114052
CREATED:20250402T234704Z
LAST-MODIFIED:20250402T234704Z
UID:3028-1744225200-1744228800@www.castlerockalc.com
SUMMARY:7:00pm ~ Lent Service ~ Joel Kandoll
DESCRIPTION:
URL:https://www.castlerockalc.com/event/700pm-lent-service-joel-kandoll/
END:VEVENT
BEGIN:VEVENT
DTSTART;TZID=UTC:20250413T110000
DTEND;TZID=UTC:20250413T120000
DTSTAMP:20260424T114052
CREATED:20250402T234030Z
LAST-MODIFIED:20250402T234030Z
UID:3021-1744542000-1744545600@www.castlerockalc.com
SUMMARY:11am.    Greg Somero * Communion
DESCRIPTION:
URL:https://www.castlerockalc.com/event/11am-greg-somero-communion-2/
END:VEVENT
BEGIN:VEVENT
DTSTART;TZID=UTC:20250418T190000
DTEND;TZID=UTC:20250418T200000
DTSTAMP:20260424T114052
CREATED:20250402T235245Z
LAST-MODIFIED:20250402T235245Z
UID:3031-1745002800-1745006400@www.castlerockalc.com
SUMMARY:7:00pm   Good Friday Service ~ Greg Somero
DESCRIPTION:
URL:https://www.castlerockalc.com/event/700pm-good-friday-service-greg-somero/
END:VEVENT
BEGIN:VEVENT
DTSTART;TZID=UTC:20250420T093000
DTEND;TZID=UTC:20250420T120000
DTSTAMP:20260424T114052
CREATED:20250402T234226Z
LAST-MODIFIED:20250402T234247Z
UID:3023-1745141400-1745150400@www.castlerockalc.com
SUMMARY:11am   Greg Somero * 9:30am Easter Brunch
DESCRIPTION:1
URL:https://www.castlerockalc.com/event/11am-greg-somero-930am-easter-brunch/
END:VEVENT
BEGIN:VEVENT
DTSTART;TZID=UTC:20250427T110000
DTEND;TZID=UTC:20250427T120000
DTSTAMP:20260424T114052
CREATED:20250402T234533Z
LAST-MODIFIED:20250402T234533Z
UID:3026-1745751600-1745755200@www.castlerockalc.com
SUMMARY:11am.   Burt Farley * Meal
DESCRIPTION:
URL:https://www.castlerockalc.com/event/11am-burt-farley-meal/
END:VEVENT
END:VCALENDAR