BEGIN:VCALENDAR
VERSION:2.0
PRODID:-//Castle Rock ALC - ECPv6.15.3//NONSGML v1.0//EN
CALSCALE:GREGORIAN
METHOD:PUBLISH
X-WR-CALNAME:Castle Rock ALC
X-ORIGINAL-URL:https://www.castlerockalc.com
X-WR-CALDESC:Events for Castle Rock ALC
REFRESH-INTERVAL;VALUE=DURATION:PT1H
X-Robots-Tag:noindex
X-PUBLISHED-TTL:PT1H
BEGIN:VTIMEZONE
TZID:UTC
BEGIN:STANDARD
TZOFFSETFROM:+0000
TZOFFSETTO:+0000
TZNAME:UTC
DTSTART:20240101T000000
END:STANDARD
END:VTIMEZONE
BEGIN:VEVENT
DTSTART;TZID=UTC:20241103T110000
DTEND;TZID=UTC:20241103T120000
DTSTAMP:20260424T200558
CREATED:20241029T183350Z
LAST-MODIFIED:20241029T183350Z
UID:2934-1730631600-1730635200@www.castlerockalc.com
SUMMARY:11:00am.  Burton Farley * Meal
DESCRIPTION:
URL:https://www.castlerockalc.com/event/1100am-burton-farley-meal-2/
END:VEVENT
BEGIN:VEVENT
DTSTART;TZID=UTC:20241108T190000
DTEND;TZID=UTC:20241108T200000
DTSTAMP:20260424T200558
CREATED:20241029T184018Z
LAST-MODIFIED:20241101T181325Z
UID:2942-1731092400-1731096000@www.castlerockalc.com
SUMMARY:7:00pm.    Bible Study at Dave & Kristie’s
DESCRIPTION:
URL:https://www.castlerockalc.com/event/700pm-bible-study-at-the-church-4/
END:VEVENT
BEGIN:VEVENT
DTSTART;TZID=UTC:20241110T110000
DTEND;TZID=UTC:20241110T120000
DTSTAMP:20260424T200558
CREATED:20241029T183513Z
LAST-MODIFIED:20241029T184515Z
UID:2936-1731236400-1731240000@www.castlerockalc.com
SUMMARY:11:00am   Greg Somero * Communion * Meal
DESCRIPTION:
URL:https://www.castlerockalc.com/event/1100am-greg-somero-communion-meal-13/
END:VEVENT
BEGIN:VEVENT
DTSTART;TZID=UTC:20241117T110000
DTEND;TZID=UTC:20241117T120000
DTSTAMP:20260424T200558
CREATED:20241029T183633Z
LAST-MODIFIED:20241029T183633Z
UID:2938-1731841200-1731844800@www.castlerockalc.com
SUMMARY:11:00am.   Jim Maunu
DESCRIPTION:
URL:https://www.castlerockalc.com/event/1100am-jim-maunu-9/
END:VEVENT
BEGIN:VEVENT
DTSTART;TZID=UTC:20241123T120000
DTEND;TZID=UTC:20241123T150000
DTSTAMP:20260424T200558
CREATED:20241117T215510Z
LAST-MODIFIED:20241117T215510Z
UID:2948-1732363200-1732374000@www.castlerockalc.com
SUMMARY:12:00pm.   Western Mission Bible Study at Church
DESCRIPTION:
URL:https://www.castlerockalc.com/event/1200pm-western-mission-bible-study-at-church/
END:VEVENT
BEGIN:VEVENT
DTSTART;TZID=UTC:20241124T110000
DTEND;TZID=UTC:20241124T120000
DTSTAMP:20260424T200558
CREATED:20241029T183827Z
LAST-MODIFIED:20241029T183827Z
UID:2940-1732446000-1732449600@www.castlerockalc.com
SUMMARY:11:00am.   Greg Somero
DESCRIPTION:
URL:https://www.castlerockalc.com/event/1100am-greg-somero-21/
END:VEVENT
END:VCALENDAR