BEGIN:VCALENDAR
VERSION:2.0
PRODID:-//Castle Rock ALC - ECPv6.15.3//NONSGML v1.0//EN
CALSCALE:GREGORIAN
METHOD:PUBLISH
X-ORIGINAL-URL:https://www.castlerockalc.com
X-WR-CALDESC:Events for Castle Rock ALC
REFRESH-INTERVAL;VALUE=DURATION:PT1H
X-Robots-Tag:noindex
X-PUBLISHED-TTL:PT1H
BEGIN:VTIMEZONE
TZID:UTC
BEGIN:STANDARD
TZOFFSETFROM:+0000
TZOFFSETTO:+0000
TZNAME:UTC
DTSTART:20240101T000000
END:STANDARD
END:VTIMEZONE
BEGIN:VEVENT
DTSTART;TZID=UTC:20240901T110000
DTEND;TZID=UTC:20240901T120000
DTSTAMP:20260424T232054
CREATED:20240831T181937Z
LAST-MODIFIED:20240831T181937Z
UID:2899-1725188400-1725192000@www.castlerockalc.com
SUMMARY:11:00am.  Clark Somero
DESCRIPTION:
URL:https://www.castlerockalc.com/event/1100am-clark-somero/
END:VEVENT
BEGIN:VEVENT
DTSTART;TZID=UTC:20240908T110000
DTEND;TZID=UTC:20240908T120000
DTSTAMP:20260424T232054
CREATED:20240831T182114Z
LAST-MODIFIED:20240831T182114Z
UID:2901-1725793200-1725796800@www.castlerockalc.com
SUMMARY:11:00am.  Greg Somero * Communion * Meal
DESCRIPTION:
URL:https://www.castlerockalc.com/event/1100am-greg-somero-communion-meal-11/
END:VEVENT
BEGIN:VEVENT
DTSTART;TZID=UTC:20240913T190000
DTEND;TZID=UTC:20240913T200000
DTSTAMP:20260424T232054
CREATED:20240915T053739Z
LAST-MODIFIED:20240915T053739Z
UID:2914-1726254000-1726257600@www.castlerockalc.com
SUMMARY:7:00pm.  Bible Study ~ Church
DESCRIPTION:
URL:https://www.castlerockalc.com/event/700pm-bible-study-church-2/
END:VEVENT
BEGIN:VEVENT
DTSTART;TZID=UTC:20240915T110000
DTEND;TZID=UTC:20240915T120000
DTSTAMP:20260424T232054
CREATED:20240831T182210Z
LAST-MODIFIED:20240831T182210Z
UID:2903-1726398000-1726401600@www.castlerockalc.com
SUMMARY:11:00am. Greg Somero
DESCRIPTION:
URL:https://www.castlerockalc.com/event/1100am-greg-somero-19/
END:VEVENT
BEGIN:VEVENT
DTSTART;TZID=UTC:20240922T110000
DTEND;TZID=UTC:20240922T120000
DTSTAMP:20260424T232054
CREATED:20240831T182348Z
LAST-MODIFIED:20240916T043015Z
UID:2905-1727002800-1727006400@www.castlerockalc.com
SUMMARY:11:00am.  Aaron Hendrickson * Meal
DESCRIPTION:
URL:https://www.castlerockalc.com/event/1100am-joel-kandoll-17/
END:VEVENT
BEGIN:VEVENT
DTSTART;TZID=UTC:20240927T190000
DTEND;TZID=UTC:20240927T200000
DTSTAMP:20260424T232054
CREATED:20240915T053630Z
LAST-MODIFIED:20240915T053630Z
UID:2912-1727463600-1727467200@www.castlerockalc.com
SUMMARY:7:00pm. Bible Study ~ Dave & Kristie’s
DESCRIPTION:
URL:https://www.castlerockalc.com/event/700pm-bible-study-dave-kristies/
END:VEVENT
BEGIN:VEVENT
DTSTART;TZID=UTC:20240929T110000
DTEND;TZID=UTC:20240929T120000
DTSTAMP:20260424T232054
CREATED:20240831T182507Z
LAST-MODIFIED:20240831T184737Z
UID:2907-1727607600-1727611200@www.castlerockalc.com
SUMMARY:11:00am.  Joel Kandoll
DESCRIPTION:
URL:https://www.castlerockalc.com/event/1100am-tba-2/
END:VEVENT
END:VCALENDAR