BEGIN:VCALENDAR
VERSION:2.0
PRODID:-//Castle Rock ALC - ECPv6.15.3//NONSGML v1.0//EN
CALSCALE:GREGORIAN
METHOD:PUBLISH
X-WR-CALNAME:Castle Rock ALC
X-ORIGINAL-URL:https://www.castlerockalc.com
X-WR-CALDESC:Events for Castle Rock ALC
REFRESH-INTERVAL;VALUE=DURATION:PT1H
X-Robots-Tag:noindex
X-PUBLISHED-TTL:PT1H
BEGIN:VTIMEZONE
TZID:UTC
BEGIN:STANDARD
TZOFFSETFROM:+0000
TZOFFSETTO:+0000
TZNAME:UTC
DTSTART:20230101T000000
END:STANDARD
END:VTIMEZONE
BEGIN:VEVENT
DTSTART;TZID=UTC:20231203T110000
DTEND;TZID=UTC:20231203T120000
DTSTAMP:20260425T125404
CREATED:20231204T212107Z
LAST-MODIFIED:20231204T212107Z
UID:2760-1701601200-1701604800@www.castlerockalc.com
SUMMARY:11:00am.  Allan Wirkkala
DESCRIPTION:
URL:https://www.castlerockalc.com/event/1100am-allan-wirkkala-4/
END:VEVENT
BEGIN:VEVENT
DTSTART;TZID=UTC:20231208T190000
DTEND;TZID=UTC:20231208T200000
DTSTAMP:20260425T125404
CREATED:20231205T053731Z
LAST-MODIFIED:20231205T053731Z
UID:2774-1702062000-1702065600@www.castlerockalc.com
SUMMARY:7:00pm.  Bible Study at Beth Wirkkala’s
DESCRIPTION:
URL:https://www.castlerockalc.com/event/700pm-bible-study-at-beth-wirkkalas/
END:VEVENT
BEGIN:VEVENT
DTSTART;TZID=UTC:20231210T110000
DTEND;TZID=UTC:20231210T120000
DTSTAMP:20260425T125404
CREATED:20231204T212317Z
LAST-MODIFIED:20231204T212317Z
UID:2762-1702206000-1702209600@www.castlerockalc.com
SUMMARY:11:00am.  Greg Somero * Communion * Pastor Appreciation Lunch
DESCRIPTION:
URL:https://www.castlerockalc.com/event/1100am-greg-somero-communion-pastor-appreciation-lunch/
END:VEVENT
BEGIN:VEVENT
DTSTART;TZID=UTC:20231213T190000
DTEND;TZID=UTC:20231213T200000
DTSTAMP:20260425T125404
CREATED:20231204T213420Z
LAST-MODIFIED:20231204T213420Z
UID:2770-1702494000-1702497600@www.castlerockalc.com
SUMMARY:7:00pm.  Advent Service * Greg Somero
DESCRIPTION:
URL:https://www.castlerockalc.com/event/700pm-advent-service-greg-somero/
END:VEVENT
BEGIN:VEVENT
DTSTART;TZID=UTC:20231217T110000
DTEND;TZID=UTC:20231217T120000
DTSTAMP:20260425T125404
CREATED:20231204T212414Z
LAST-MODIFIED:20231204T212414Z
UID:2764-1702810800-1702814400@www.castlerockalc.com
SUMMARY:11:00am.  Jim Maunu
DESCRIPTION:
URL:https://www.castlerockalc.com/event/1100am-jim-maunu-8/
END:VEVENT
BEGIN:VEVENT
DTSTART;TZID=UTC:20231220T190000
DTEND;TZID=UTC:20231220T200000
DTSTAMP:20260425T125404
CREATED:20231204T213543Z
LAST-MODIFIED:20231204T213543Z
UID:2772-1703098800-1703102400@www.castlerockalc.com
SUMMARY:7:00pm.  Advent Service * Joel Kandoll
DESCRIPTION:
URL:https://www.castlerockalc.com/event/700pm-advent-service-joel-kandoll/
END:VEVENT
BEGIN:VEVENT
DTSTART;TZID=UTC:20231223T140000
DTEND;TZID=UTC:20231223T150000
DTSTAMP:20260425T125404
CREATED:20231212T203334Z
LAST-MODIFIED:20231212T203334Z
UID:2776-1703340000-1703343600@www.castlerockalc.com
SUMMARY:2:00pm. Caroling at Woodland Care Center
DESCRIPTION:
URL:https://www.castlerockalc.com/event/200pm-caroling-at-woodland-care-center/
END:VEVENT
BEGIN:VEVENT
DTSTART;TZID=UTC:20231224T110000
DTEND;TZID=UTC:20231224T120000
DTSTAMP:20260425T125404
CREATED:20231204T213153Z
LAST-MODIFIED:20231204T213153Z
UID:2766-1703415600-1703419200@www.castlerockalc.com
SUMMARY:11:00am. SS Christmas Program * Greg Somero * Soup\, Bread & Cookie Lunch
DESCRIPTION:
URL:https://www.castlerockalc.com/event/1100am-ss-christmas-program-greg-somero-soup-bread-cookie-lunch/
END:VEVENT
BEGIN:VEVENT
DTSTART;TZID=UTC:20231231T110000
DTEND;TZID=UTC:20231231T120000
DTSTAMP:20260425T125404
CREATED:20231204T213308Z
LAST-MODIFIED:20231204T213308Z
UID:2768-1704020400-1704024000@www.castlerockalc.com
SUMMARY:11:00am.   Aaron Hendrickson
DESCRIPTION:
URL:https://www.castlerockalc.com/event/1100am-aaron-hendrickson-2/
END:VEVENT
END:VCALENDAR