BEGIN:VCALENDAR
VERSION:2.0
PRODID:-//Castle Rock ALC - ECPv6.15.3//NONSGML v1.0//EN
CALSCALE:GREGORIAN
METHOD:PUBLISH
X-WR-CALNAME:Castle Rock ALC
X-ORIGINAL-URL:https://www.castlerockalc.com
X-WR-CALDESC:Events for Castle Rock ALC
REFRESH-INTERVAL;VALUE=DURATION:PT1H
X-Robots-Tag:noindex
X-PUBLISHED-TTL:PT1H
BEGIN:VTIMEZONE
TZID:UTC
BEGIN:STANDARD
TZOFFSETFROM:+0000
TZOFFSETTO:+0000
TZNAME:UTC
DTSTART:20230101T000000
END:STANDARD
END:VTIMEZONE
BEGIN:VEVENT
DTSTART;TZID=UTC:20231001T110000
DTEND;TZID=UTC:20231001T120000
DTSTAMP:20260425T160326
CREATED:20230929T125636Z
LAST-MODIFIED:20230929T125636Z
UID:2726-1696158000-1696161600@www.castlerockalc.com
SUMMARY:11:00am.  Joel Kandoll
DESCRIPTION:
URL:https://www.castlerockalc.com/event/1100am-joel-kandoll-11/
END:VEVENT
BEGIN:VEVENT
DTSTART;TZID=UTC:20231008T080000
DTEND;TZID=UTC:20231008T120000
DTSTAMP:20260425T160326
CREATED:20230929T125753Z
LAST-MODIFIED:20230929T125753Z
UID:2728-1696752000-1696766400@www.castlerockalc.com
SUMMARY:11:00am.  Greg Somero * Communion * Meal
DESCRIPTION:
URL:https://www.castlerockalc.com/event/1100am-greg-somero-communion-meal-7/
END:VEVENT
BEGIN:VEVENT
DTSTART;TZID=UTC:20231013T190000
DTEND;TZID=UTC:20231013T200000
DTSTAMP:20260425T160326
CREATED:20230929T130232Z
LAST-MODIFIED:20230929T130232Z
UID:2736-1697223600-1697227200@www.castlerockalc.com
SUMMARY:7:00pm.  Bible Study * Joel and Elaine Kandoll
DESCRIPTION:
URL:https://www.castlerockalc.com/event/700pm-bible-study-joel-and-elaine-kandoll/
END:VEVENT
BEGIN:VEVENT
DTSTART;TZID=UTC:20231015T110000
DTEND;TZID=UTC:20231015T120000
DTSTAMP:20260425T160326
CREATED:20230929T125908Z
LAST-MODIFIED:20230929T125908Z
UID:2730-1697367600-1697371200@www.castlerockalc.com
SUMMARY:11:00am.  Tom Lappi * Meal
DESCRIPTION:
URL:https://www.castlerockalc.com/event/1100am-tom-lappi-meal/
END:VEVENT
BEGIN:VEVENT
DTSTART;TZID=UTC:20231022T110000
DTEND;TZID=UTC:20231022T120000
DTSTAMP:20260425T160326
CREATED:20230929T130010Z
LAST-MODIFIED:20230929T130010Z
UID:2732-1697972400-1697976000@www.castlerockalc.com
SUMMARY:11:00am.  Greg Somero
DESCRIPTION:
URL:https://www.castlerockalc.com/event/1100am-greg-somero-11/
END:VEVENT
BEGIN:VEVENT
DTSTART;TZID=UTC:20231027T190000
DTEND;TZID=UTC:20231027T200000
DTSTAMP:20260425T160326
CREATED:20230929T130409Z
LAST-MODIFIED:20230929T130409Z
UID:2738-1698433200-1698436800@www.castlerockalc.com
SUMMARY:7:00pm.  Bible Study
DESCRIPTION:
URL:https://www.castlerockalc.com/event/700pm-bible-study-2/
END:VEVENT
BEGIN:VEVENT
DTSTART;TZID=UTC:20231028T080000
DTEND;TZID=UTC:20231028T100000
DTSTAMP:20260425T160326
CREATED:20231020T170651Z
LAST-MODIFIED:20231020T170719Z
UID:2740-1698480000-1698487200@www.castlerockalc.com
SUMMARY:8:00am.   Men’s Breakfast at Church
DESCRIPTION:
URL:https://www.castlerockalc.com/event/800am-mens-breakfast/
END:VEVENT
BEGIN:VEVENT
DTSTART;TZID=UTC:20231029T110000
DTEND;TZID=UTC:20231029T120000
DTSTAMP:20260425T160326
CREATED:20230929T130110Z
LAST-MODIFIED:20230929T130110Z
UID:2734-1698577200-1698580800@www.castlerockalc.com
SUMMARY:11:00am.  Kim Mickelson
DESCRIPTION:
URL:https://www.castlerockalc.com/event/1100am-kim-mickelson/
END:VEVENT
BEGIN:VEVENT
DTSTART;TZID=UTC:20231031T190000
DTEND;TZID=UTC:20231031T200000
DTSTAMP:20260425T160326
CREATED:20231031T233117Z
LAST-MODIFIED:20231031T233117Z
UID:2753-1698778800-1698782400@www.castlerockalc.com
SUMMARY:7:00pm.  Bible Study ~ TBA
DESCRIPTION:
URL:https://www.castlerockalc.com/event/700pm-bible-study-tba/
END:VEVENT
END:VCALENDAR