BEGIN:VCALENDAR
VERSION:2.0
PRODID:-//Castle Rock ALC - ECPv6.15.3//NONSGML v1.0//EN
CALSCALE:GREGORIAN
METHOD:PUBLISH
X-WR-CALNAME:Castle Rock ALC
X-ORIGINAL-URL:https://www.castlerockalc.com
X-WR-CALDESC:Events for Castle Rock ALC
REFRESH-INTERVAL;VALUE=DURATION:PT1H
X-Robots-Tag:noindex
X-PUBLISHED-TTL:PT1H
BEGIN:VTIMEZONE
TZID:UTC
BEGIN:STANDARD
TZOFFSETFROM:+0000
TZOFFSETTO:+0000
TZNAME:UTC
DTSTART:20210101T000000
END:STANDARD
END:VTIMEZONE
BEGIN:VEVENT
DTSTART;TZID=UTC:20211128T110000
DTEND;TZID=UTC:20211128T120000
DTSTAMP:20260426T033511
CREATED:20211108T195957Z
LAST-MODIFIED:20211108T195957Z
UID:2329-1638097200-1638100800@www.castlerockalc.com
SUMMARY:1100 Jim Maunu
DESCRIPTION:
URL:https://www.castlerockalc.com/event/1100-jim-maunu-20/
END:VEVENT
BEGIN:VEVENT
DTSTART;TZID=UTC:20211126T190000
DTEND;TZID=UTC:20211126T200000
DTSTAMP:20260426T033511
CREATED:20211108T200456Z
LAST-MODIFIED:20211108T200456Z
UID:2333-1637953200-1637956800@www.castlerockalc.com
SUMMARY:700 Bible Study\, location tbd
DESCRIPTION:
URL:https://www.castlerockalc.com/event/700-bible-study-location-tbd-3/
END:VEVENT
BEGIN:VEVENT
DTSTART;TZID=UTC:20211121T110000
DTEND;TZID=UTC:20211121T120000
DTSTAMP:20260426T033511
CREATED:20211108T195932Z
LAST-MODIFIED:20211108T195932Z
UID:2327-1637492400-1637496000@www.castlerockalc.com
SUMMARY:1100 Joel Kandoll
DESCRIPTION:
URL:https://www.castlerockalc.com/event/1100-joel-kandoll-79/
END:VEVENT
BEGIN:VEVENT
DTSTART;TZID=UTC:20211114T110000
DTEND;TZID=UTC:20211114T120000
DTSTAMP:20260426T033511
CREATED:20211108T195900Z
LAST-MODIFIED:20211108T195900Z
UID:2325-1636887600-1636891200@www.castlerockalc.com
SUMMARY:1100 Greg Somero Communion Potluck
DESCRIPTION:
URL:https://www.castlerockalc.com/event/1100-greg-somero-communion-potluck-2/
END:VEVENT
BEGIN:VEVENT
DTSTART;TZID=UTC:20211112T190000
DTEND;TZID=UTC:20211112T200000
DTSTAMP:20260426T033511
CREATED:20211108T200421Z
LAST-MODIFIED:20211108T200421Z
UID:2331-1636743600-1636747200@www.castlerockalc.com
SUMMARY:700 Bible Study Somero's house\, Kalama
DESCRIPTION:
URL:https://www.castlerockalc.com/event/700-bible-study-someros-house-kalama/
END:VEVENT
BEGIN:VEVENT
DTSTART;TZID=UTC:20211107T110000
DTEND;TZID=UTC:20211107T120000
DTSTAMP:20260426T033511
CREATED:20211108T195826Z
LAST-MODIFIED:20211108T195826Z
UID:2323-1636282800-1636286400@www.castlerockalc.com
SUMMARY:1100 Greg Somero
DESCRIPTION:
URL:https://www.castlerockalc.com/event/1100-greg-somero-23/
END:VEVENT
BEGIN:VEVENT
DTSTART;TZID=UTC:20211031T110000
DTEND;TZID=UTC:20211031T120000
DTSTAMP:20260426T033511
CREATED:20211008T214934Z
LAST-MODIFIED:20211008T214934Z
UID:2316-1635678000-1635681600@www.castlerockalc.com
SUMMARY:1100 Jim Maunu
DESCRIPTION:
URL:https://www.castlerockalc.com/event/1100-jim-maunu-19/
END:VEVENT
BEGIN:VEVENT
DTSTART;TZID=UTC:20211024T110000
DTEND;TZID=UTC:20211024T120000
DTSTAMP:20260426T033511
CREATED:20211008T214911Z
LAST-MODIFIED:20211008T214911Z
UID:2314-1635073200-1635076800@www.castlerockalc.com
SUMMARY:1100 Greg Somero
DESCRIPTION:
URL:https://www.castlerockalc.com/event/1100-greg-somero-22/
END:VEVENT
BEGIN:VEVENT
DTSTART;TZID=UTC:20211022T110000
DTEND;TZID=UTC:20211022T120000
DTSTAMP:20260426T033511
CREATED:20211008T215053Z
LAST-MODIFIED:20211008T215053Z
UID:2320-1634900400-1634904000@www.castlerockalc.com
SUMMARY:700 Bible Study Location TBD
DESCRIPTION:
URL:https://www.castlerockalc.com/event/700-bible-study-location-tbd-2/
END:VEVENT
BEGIN:VEVENT
DTSTART;TZID=UTC:20211017T110000
DTEND;TZID=UTC:20211017T120000
DTSTAMP:20260426T033511
CREATED:20211008T214850Z
LAST-MODIFIED:20211008T214850Z
UID:2312-1634468400-1634472000@www.castlerockalc.com
SUMMARY:1100 Joel Kandoll
DESCRIPTION:
URL:https://www.castlerockalc.com/event/1100-joel-kandoll-78/
END:VEVENT
BEGIN:VEVENT
DTSTART;TZID=UTC:20211010T110000
DTEND;TZID=UTC:20211010T120000
DTSTAMP:20260426T033511
CREATED:20211008T214824Z
LAST-MODIFIED:20211008T215124Z
UID:2310-1633863600-1633867200@www.castlerockalc.com
SUMMARY:1100 Greg Somero Communion Potluck
DESCRIPTION:
URL:https://www.castlerockalc.com/event/1100-greg-somero-communion-3/
END:VEVENT
BEGIN:VEVENT
DTSTART;TZID=UTC:20211008T110000
DTEND;TZID=UTC:20211008T120000
DTSTAMP:20260426T033511
CREATED:20211008T215019Z
LAST-MODIFIED:20211008T215019Z
UID:2318-1633690800-1633694400@www.castlerockalc.com
SUMMARY:700 Bible Study Location TBD
DESCRIPTION:
URL:https://www.castlerockalc.com/event/700-bible-study-location-tbd/
END:VEVENT
BEGIN:VEVENT
DTSTART;TZID=UTC:20211003T110000
DTEND;TZID=UTC:20211003T120000
DTSTAMP:20260426T033511
CREATED:20211008T214749Z
LAST-MODIFIED:20211008T214749Z
UID:2308-1633258800-1633262400@www.castlerockalc.com
SUMMARY:1100 Tom Lappi
DESCRIPTION:
URL:https://www.castlerockalc.com/event/1100-tom-lappi/
END:VEVENT
BEGIN:VEVENT
DTSTART;TZID=UTC:20210926T110000
DTEND;TZID=UTC:20210926T120000
DTSTAMP:20260426T033511
CREATED:20210914T163601Z
LAST-MODIFIED:20210914T163601Z
UID:2302-1632654000-1632657600@www.castlerockalc.com
SUMMARY:1100 Joel Kandoll
DESCRIPTION:
URL:https://www.castlerockalc.com/event/1100-joel-kandoll-77/
END:VEVENT
BEGIN:VEVENT
DTSTART;TZID=UTC:20210924T190000
DTEND;TZID=UTC:20210924T200000
DTSTAMP:20260426T033511
CREATED:20210914T174345Z
LAST-MODIFIED:20210914T174345Z
UID:2306-1632510000-1632513600@www.castlerockalc.com
SUMMARY:700 Bible Study
DESCRIPTION:
URL:https://www.castlerockalc.com/event/700-bible-study-7/
END:VEVENT
BEGIN:VEVENT
DTSTART;TZID=UTC:20210919T110000
DTEND;TZID=UTC:20210919T120000
DTSTAMP:20260426T033511
CREATED:20210914T163536Z
LAST-MODIFIED:20210914T163536Z
UID:2300-1632049200-1632052800@www.castlerockalc.com
SUMMARY:1100 Greg Somero
DESCRIPTION:
URL:https://www.castlerockalc.com/event/1100-greg-somero-21/
END:VEVENT
BEGIN:VEVENT
DTSTART;TZID=UTC:20210912T110000
DTEND;TZID=UTC:20210912T120000
DTSTAMP:20260426T033511
CREATED:20210914T163505Z
LAST-MODIFIED:20210914T163505Z
UID:2298-1631444400-1631448000@www.castlerockalc.com
SUMMARY:1100 Greg Somero Communion
DESCRIPTION:
URL:https://www.castlerockalc.com/event/1100-greg-somero-communion-2/
END:VEVENT
BEGIN:VEVENT
DTSTART;TZID=UTC:20210910T190000
DTEND;TZID=UTC:20210910T200000
DTSTAMP:20260426T033511
CREATED:20210914T174316Z
LAST-MODIFIED:20210914T174316Z
UID:2304-1631300400-1631304000@www.castlerockalc.com
SUMMARY:700 Bible Study
DESCRIPTION:
URL:https://www.castlerockalc.com/event/700-bible-study-6/
END:VEVENT
BEGIN:VEVENT
DTSTART;TZID=UTC:20210905T110000
DTEND;TZID=UTC:20210905T120000
DTSTAMP:20260426T033511
CREATED:20210914T163432Z
LAST-MODIFIED:20210914T163432Z
UID:2296-1630839600-1630843200@www.castlerockalc.com
SUMMARY:1100 Jim Maunu
DESCRIPTION:
URL:https://www.castlerockalc.com/event/1100-jim-maunu-18/
END:VEVENT
BEGIN:VEVENT
DTSTART;TZID=UTC:20210829T110000
DTEND;TZID=UTC:20210829T120000
DTSTAMP:20260426T033511
CREATED:20210731T170312Z
LAST-MODIFIED:20210731T170312Z
UID:2280-1630234800-1630238400@www.castlerockalc.com
SUMMARY:1100 Kim Mickelson
DESCRIPTION:
URL:https://www.castlerockalc.com/event/1100-kim-mickelson-3/
END:VEVENT
BEGIN:VEVENT
DTSTART;TZID=UTC:20210826T170000
DTEND;TZID=UTC:20210826T200000
DTSTAMP:20260426T033511
CREATED:20210731T191535Z
LAST-MODIFIED:20210731T191535Z
UID:2294-1629997200-1630008000@www.castlerockalc.com
SUMMARY:5-8 Family Night
DESCRIPTION:
URL:https://www.castlerockalc.com/event/5-8-family-night-2/
END:VEVENT
BEGIN:VEVENT
DTSTART;TZID=UTC:20210822T110000
DTEND;TZID=UTC:20210822T120000
DTSTAMP:20260426T033511
CREATED:20210731T170234Z
LAST-MODIFIED:20210731T170234Z
UID:2278-1629630000-1629633600@www.castlerockalc.com
SUMMARY:1100 Greg Somero
DESCRIPTION:
URL:https://www.castlerockalc.com/event/1100-greg-somero-20/
END:VEVENT
BEGIN:VEVENT
DTSTART;TZID=UTC:20210815T110000
DTEND;TZID=UTC:20210815T120000
DTSTAMP:20260426T033511
CREATED:20210731T170508Z
LAST-MODIFIED:20210731T191432Z
UID:2284-1629025200-1629028800@www.castlerockalc.com
SUMMARY:No Church Service Fall Services Hockinson
DESCRIPTION:
URL:https://www.castlerockalc.com/event/no-church-service/
END:VEVENT
BEGIN:VEVENT
DTSTART;TZID=UTC:20210812T170000
DTEND;TZID=UTC:20210812T200000
DTSTAMP:20260426T033511
CREATED:20210731T191139Z
LAST-MODIFIED:20210731T191139Z
UID:2289-1628787600-1628798400@www.castlerockalc.com
SUMMARY:5-8 Family Night
DESCRIPTION:
URL:https://www.castlerockalc.com/event/5-8-family-night/
END:VEVENT
BEGIN:VEVENT
DTSTART;TZID=UTC:20210808T110000
DTEND;TZID=UTC:20210808T120000
DTSTAMP:20260426T033511
CREATED:20210731T170143Z
LAST-MODIFIED:20210731T170143Z
UID:2276-1628420400-1628424000@www.castlerockalc.com
SUMMARY:1100 Joel Kandoll Communion
DESCRIPTION:
URL:https://www.castlerockalc.com/event/1100-joel-kandoll-communion-13/
END:VEVENT
BEGIN:VEVENT
DTSTART;TZID=UTC:20210801T110000
DTEND;TZID=UTC:20210801T120000
DTSTAMP:20260426T033511
CREATED:20210731T170057Z
LAST-MODIFIED:20210731T170057Z
UID:2274-1627815600-1627819200@www.castlerockalc.com
SUMMARY:1100 Allan Wirkkala
DESCRIPTION:
URL:https://www.castlerockalc.com/event/1100-allan-wirkkala-10/
END:VEVENT
BEGIN:VEVENT
DTSTART;TZID=UTC:20210729T170000
DTEND;TZID=UTC:20210729T200000
DTSTAMP:20260426T033511
CREATED:20210704T040958Z
LAST-MODIFIED:20210704T040958Z
UID:2272-1627578000-1627588800@www.castlerockalc.com
SUMMARY:5-8 Family Night Location TBA
DESCRIPTION:
URL:https://www.castlerockalc.com/event/5-8-family-night-location-tba-2/
END:VEVENT
BEGIN:VEVENT
DTSTART;TZID=UTC:20210725T110000
DTEND;TZID=UTC:20210725T120000
DTSTAMP:20260426T033511
CREATED:20210704T040619Z
LAST-MODIFIED:20210704T040619Z
UID:2268-1627210800-1627214400@www.castlerockalc.com
SUMMARY:1100 Greg Somero
DESCRIPTION:
URL:https://www.castlerockalc.com/event/1100-greg-somero-19/
END:VEVENT
BEGIN:VEVENT
DTSTART;TZID=UTC:20210718T110000
DTEND;TZID=UTC:20210718T120000
DTSTAMP:20260426T033511
CREATED:20210704T040554Z
LAST-MODIFIED:20210704T040554Z
UID:2266-1626606000-1626609600@www.castlerockalc.com
SUMMARY:1100 Allan Wirkkala
DESCRIPTION:
URL:https://www.castlerockalc.com/event/1100-allan-wirkkala-9/
END:VEVENT
BEGIN:VEVENT
DTSTART;TZID=UTC:20210715T170000
DTEND;TZID=UTC:20210715T200000
DTSTAMP:20260426T033511
CREATED:20210704T040922Z
LAST-MODIFIED:20210704T040922Z
UID:2270-1626368400-1626379200@www.castlerockalc.com
SUMMARY:5-8 Family Night Location TBA
DESCRIPTION:
URL:https://www.castlerockalc.com/event/5-8-family-night-location-tba/
END:VEVENT
END:VCALENDAR