BEGIN:VCALENDAR
VERSION:2.0
PRODID:-//Castle Rock ALC - ECPv6.15.3//NONSGML v1.0//EN
CALSCALE:GREGORIAN
METHOD:PUBLISH
X-ORIGINAL-URL:https://www.castlerockalc.com
X-WR-CALDESC:Events for Castle Rock ALC
REFRESH-INTERVAL;VALUE=DURATION:PT1H
X-Robots-Tag:noindex
X-PUBLISHED-TTL:PT1H
BEGIN:VTIMEZONE
TZID:UTC
BEGIN:STANDARD
TZOFFSETFROM:+0000
TZOFFSETTO:+0000
TZNAME:UTC
DTSTART:20260101T000000
END:STANDARD
END:VTIMEZONE
BEGIN:VEVENT
DTSTART;TZID=UTC:20260414T130000
DTEND;TZID=UTC:20260414T133000
DTSTAMP:20260423T230110
CREATED:20260404T160537Z
LAST-MODIFIED:20260404T160537Z
UID:3335-1776171600-1776173400@www.castlerockalc.com
SUMMARY:1:00pm.  Sing at The Villager\, Castle Rock
DESCRIPTION:
URL:https://www.castlerockalc.com/event/100pm-sing-at-the-villager-castle-rock/
END:VEVENT
BEGIN:VEVENT
DTSTART;TZID=UTC:20260419T110000
DTEND;TZID=UTC:20260419T120000
DTSTAMP:20260423T230110
CREATED:20260402T175232Z
LAST-MODIFIED:20260402T175232Z
UID:3329-1776596400-1776600000@www.castlerockalc.com
SUMMARY:11am.   Allan Wirkkala
DESCRIPTION:
URL:https://www.castlerockalc.com/event/11am-allan-wirkkala-3/
END:VEVENT
BEGIN:VEVENT
DTSTART;TZID=UTC:20260424T190000
DTEND;TZID=UTC:20260424T200000
DTSTAMP:20260423T230110
CREATED:20260402T175403Z
LAST-MODIFIED:20260402T175403Z
UID:3331-1777057200-1777060800@www.castlerockalc.com
SUMMARY:7pm.    Bible Study at Beth Wirkkala’s
DESCRIPTION:
URL:https://www.castlerockalc.com/event/7pm-bible-study-at-beth-wirkkalas-2/
END:VEVENT
BEGIN:VEVENT
DTSTART;TZID=UTC:20260426T110000
DTEND;TZID=UTC:20260426T120000
DTSTAMP:20260423T230110
CREATED:20260402T175443Z
LAST-MODIFIED:20260402T175757Z
UID:3333-1777201200-1777204800@www.castlerockalc.com
SUMMARY:11am.     Greg Somero
DESCRIPTION:
URL:https://www.castlerockalc.com/event/11am-greg-somero-7/
END:VEVENT
BEGIN:VEVENT
DTSTART;TZID=UTC:20260430T180000
DTEND;TZID=UTC:20260430T190000
DTSTAMP:20260423T230110
CREATED:20260416T005915Z
LAST-MODIFIED:20260416T005915Z
UID:3337-1777572000-1777575600@www.castlerockalc.com
SUMMARY:6:00pm.  Board Meeting - Church look p
DESCRIPTION:
URL:https://www.castlerockalc.com/event/600pm-board-meeting-church-look-p/
END:VEVENT
END:VCALENDAR