BEGIN:VCALENDAR
VERSION:2.0
PRODID:-//Castle Rock ALC - ECPv6.15.3//NONSGML v1.0//EN
CALSCALE:GREGORIAN
METHOD:PUBLISH
X-WR-CALNAME:Castle Rock ALC
X-ORIGINAL-URL:https://www.castlerockalc.com
X-WR-CALDESC:Events for Castle Rock ALC
REFRESH-INTERVAL;VALUE=DURATION:PT1H
X-Robots-Tag:noindex
X-PUBLISHED-TTL:PT1H
BEGIN:VTIMEZONE
TZID:UTC
BEGIN:STANDARD
TZOFFSETFROM:+0000
TZOFFSETTO:+0000
TZNAME:UTC
DTSTART:20220101T000000
END:STANDARD
END:VTIMEZONE
BEGIN:VTIMEZONE
TZID:America/Vancouver
BEGIN:DAYLIGHT
TZOFFSETFROM:-0800
TZOFFSETTO:-0700
TZNAME:PDT
DTSTART:20220313T100000
END:DAYLIGHT
BEGIN:STANDARD
TZOFFSETFROM:-0700
TZOFFSETTO:-0800
TZNAME:PST
DTSTART:20221106T090000
END:STANDARD
END:VTIMEZONE
BEGIN:VEVENT
DTSTART;TZID=UTC:20221030T110000
DTEND;TZID=UTC:20221030T120000
DTSTAMP:20260425T165058
CREATED:20221001T144220Z
LAST-MODIFIED:20221021T192311Z
UID:2524-1667127600-1667131200@www.castlerockalc.com
SUMMARY:11:00am   Allan Wirkkala
DESCRIPTION:
URL:https://www.castlerockalc.com/event/1100am-allan-wirkkala-2/
END:VEVENT
BEGIN:VEVENT
DTSTART;TZID=UTC:20221028T190000
DTEND;TZID=UTC:20221028T200000
DTSTAMP:20260425T165058
CREATED:20221001T144729Z
LAST-MODIFIED:20221021T192405Z
UID:2530-1666983600-1666987200@www.castlerockalc.com
SUMMARY:7:00pm.  Bible Study ~ Allan & Diane’s
DESCRIPTION:
URL:https://www.castlerockalc.com/event/700pm-bible-study-allan-dianes/
END:VEVENT
BEGIN:VEVENT
DTSTART;TZID=UTC:20221023T110000
DTEND;TZID=UTC:20221023T120000
DTSTAMP:20260425T165058
CREATED:20221001T144122Z
LAST-MODIFIED:20221001T150151Z
UID:2522-1666522800-1666526400@www.castlerockalc.com
SUMMARY:11:00am  Greg Somero ~ Pastor Appreciation Meal
DESCRIPTION:
URL:https://www.castlerockalc.com/event/1100am-greg-somero-meal/
END:VEVENT
BEGIN:VEVENT
DTSTART;TZID=UTC:20221022T080000
DTEND;TZID=UTC:20221022T100000
DTSTAMP:20260425T165058
CREATED:20221001T144840Z
LAST-MODIFIED:20221001T144840Z
UID:2532-1666425600-1666432800@www.castlerockalc.com
SUMMARY:8:00am.  Men’s Breakfast at Church
DESCRIPTION:
URL:https://www.castlerockalc.com/event/800am-mens-breakfast-at-church/
END:VEVENT
BEGIN:VEVENT
DTSTART;TZID=UTC:20221016T110000
DTEND;TZID=UTC:20221016T120000
DTSTAMP:20260425T165058
CREATED:20221001T144413Z
LAST-MODIFIED:20221001T150046Z
UID:2526-1665918000-1665921600@www.castlerockalc.com
SUMMARY:11:00am   Jim Maunu
DESCRIPTION:
URL:https://www.castlerockalc.com/event/1100am-jim-maunu/
END:VEVENT
BEGIN:VEVENT
DTSTART;TZID=UTC:20221015T180000
DTEND;TZID=UTC:20221015T200000
DTSTAMP:20260425T165058
CREATED:20221001T144617Z
LAST-MODIFIED:20221010T142907Z
UID:2528-1665856800-1665864000@www.castlerockalc.com
SUMMARY:6:00pm.  Bible Study ~ Carl and Donna’s
DESCRIPTION:
URL:https://www.castlerockalc.com/event/700pm-bible-study-allan-and-dianes/
END:VEVENT
BEGIN:VEVENT
DTSTART;TZID=UTC:20221009T110000
DTEND;TZID=UTC:20221009T120000
DTSTAMP:20260425T165058
CREATED:20221001T143714Z
LAST-MODIFIED:20221001T145832Z
UID:2519-1665313200-1665316800@www.castlerockalc.com
SUMMARY:11:00am. Greg Somero ~ Communion & Meal
DESCRIPTION:
URL:https://www.castlerockalc.com/event/1100pm-greg-somero-communion-meal/
END:VEVENT
BEGIN:VEVENT
DTSTART;TZID=UTC:20221002T110000
DTEND;TZID=UTC:20221002T120000
DTSTAMP:20260425T165058
CREATED:20221001T143143Z
LAST-MODIFIED:20221001T143143Z
UID:2516-1664708400-1664712000@www.castlerockalc.com
SUMMARY:11:00am.  Joel Kandoll
DESCRIPTION:
URL:https://www.castlerockalc.com/event/1100am-joel-kandoll-3/
END:VEVENT
BEGIN:VEVENT
DTSTART;TZID=UTC:20220925T110000
DTEND;TZID=UTC:20220925T120000
DTSTAMP:20260425T165058
CREATED:20220901T032112Z
LAST-MODIFIED:20220901T032112Z
UID:2487-1664103600-1664107200@www.castlerockalc.com
SUMMARY:11:00am—Greg Somero
DESCRIPTION:
URL:https://www.castlerockalc.com/event/1100am-greg-somero-3/
END:VEVENT
BEGIN:VEVENT
DTSTART;TZID=UTC:20220918T110000
DTEND;TZID=UTC:20220918T120000
DTSTAMP:20260425T165058
CREATED:20220901T031857Z
LAST-MODIFIED:20220901T033106Z
UID:2485-1663498800-1663502400@www.castlerockalc.com
SUMMARY:11:00am—Ron Holmgren ~ Meal
DESCRIPTION:
URL:https://www.castlerockalc.com/event/1100am-ron-holmgren-meal/
END:VEVENT
BEGIN:VEVENT
DTSTART;TZID=UTC:20220911T110000
DTEND;TZID=UTC:20220911T120000
DTSTAMP:20260425T165058
CREATED:20220901T033423Z
LAST-MODIFIED:20220901T033423Z
UID:2476-1662894000-1662897600@www.castlerockalc.com
SUMMARY:11:00am  Greg Somero ~ Communion & Meal
DESCRIPTION:
URL:https://www.castlerockalc.com/event/1100am-greg-somero-communion-meal/
END:VEVENT
BEGIN:VEVENT
DTSTART;TZID=UTC:20220911T093000
DTEND;TZID=UTC:20220911T110000
DTSTAMP:20260425T165058
CREATED:20220901T040726Z
LAST-MODIFIED:20220901T041712Z
UID:2509-1662888600-1662894000@www.castlerockalc.com
SUMMARY:Sunday School & Bible Study (9:45 & 10:15)
DESCRIPTION:
URL:https://www.castlerockalc.com/event/sunday-school-bible-study-begin-september-11-945-1015/
END:VEVENT
BEGIN:VEVENT
DTSTART;TZID=UTC:20220904T110000
DTEND;TZID=UTC:20220904T120000
DTSTAMP:20260425T165058
CREATED:20220901T031701Z
LAST-MODIFIED:20220901T031701Z
UID:2482-1662289200-1662292800@www.castlerockalc.com
SUMMARY:11:00am—Joel Kandoll
DESCRIPTION:
URL:https://www.castlerockalc.com/event/1100am-joel-kandoll-2/
END:VEVENT
BEGIN:VEVENT
DTSTART;TZID=America/Vancouver:20220828T110000
DTEND;TZID=America/Vancouver:20220828T120000
DTSTAMP:20260425T165058
CREATED:20220802T024756Z
LAST-MODIFIED:20220802T025530Z
UID:2465-1661684400-1661688000@www.castlerockalc.com
SUMMARY:11:00am  Greg Somero
DESCRIPTION:q
URL:https://www.castlerockalc.com/event/1100am-greg-somero-2/
END:VEVENT
BEGIN:VEVENT
DTSTART;TZID=UTC:20220821T110000
DTEND;TZID=UTC:20220821T120000
DTSTAMP:20260425T165058
CREATED:20220802T024700Z
LAST-MODIFIED:20220802T024700Z
UID:2463-1661079600-1661083200@www.castlerockalc.com
SUMMARY:11:00am  Allan Wirkkala
DESCRIPTION:
URL:https://www.castlerockalc.com/event/1100am-allan-wirkkala/
END:VEVENT
BEGIN:VEVENT
DTSTART;TZID=UTC:20220814T110000
DTEND;TZID=UTC:20220814T120000
DTSTAMP:20260425T165058
CREATED:20220802T024507Z
LAST-MODIFIED:20220802T025913Z
UID:2460-1660474800-1660478400@www.castlerockalc.com
SUMMARY:11:00am  Greg Somero Communion &Meal
DESCRIPTION:
URL:https://www.castlerockalc.com/event/1100am-greg-somero/
END:VEVENT
BEGIN:VEVENT
DTSTART;TZID=UTC:20220808T110000
DTEND;TZID=UTC:20220812T130000
DTSTAMP:20260425T165058
CREATED:20220802T032309Z
LAST-MODIFIED:20220806T042903Z
UID:2470-1659956400-1660309200@www.castlerockalc.com
SUMMARY:Castle Rock Kids Meals 10am-1:00pm
DESCRIPTION:
URL:https://www.castlerockalc.com/event/castle-rock-kids-meals-11am-1pm/
END:VEVENT
BEGIN:VEVENT
DTSTART;TZID=UTC:20220807T110000
DTEND;TZID=UTC:20220807T120000
DTSTAMP:20260425T165058
CREATED:20220802T024335Z
LAST-MODIFIED:20220802T024335Z
UID:2457-1659870000-1659873600@www.castlerockalc.com
SUMMARY:11:00am   Joel Kandoll
DESCRIPTION:
URL:https://www.castlerockalc.com/event/1100am-joel-kandoll/
END:VEVENT
BEGIN:VEVENT
DTSTART;TZID=UTC:20220731T110000
DTEND;TZID=UTC:20220731T120000
DTSTAMP:20260425T165058
CREATED:20220701T015451Z
LAST-MODIFIED:20220701T015451Z
UID:2446-1659265200-1659268800@www.castlerockalc.com
SUMMARY:11:00     Allan Wirkkala
DESCRIPTION:
URL:https://www.castlerockalc.com/event/1100-allan-wirkkala-12/
END:VEVENT
BEGIN:VEVENT
DTSTART;TZID=UTC:20220724T110000
DTEND;TZID=UTC:20220724T120000
DTSTAMP:20260425T165058
CREATED:20220701T015332Z
LAST-MODIFIED:20220701T015332Z
UID:2444-1658660400-1658664000@www.castlerockalc.com
SUMMARY:11:00     Greg Somero
DESCRIPTION:
URL:https://www.castlerockalc.com/event/1100-greg-somero-29/
END:VEVENT
BEGIN:VEVENT
DTSTART;TZID=UTC:20220717T110000
DTEND;TZID=UTC:20220717T120000
DTSTAMP:20260425T165058
CREATED:20220701T015206Z
LAST-MODIFIED:20220701T015649Z
UID:2442-1658055600-1658059200@www.castlerockalc.com
SUMMARY:11:00     Jim Maunu
DESCRIPTION:
URL:https://www.castlerockalc.com/event/1100-jim-maunu-24/
END:VEVENT
BEGIN:VEVENT
DTSTART;TZID=UTC:20220710T110000
DTEND;TZID=UTC:20220710T120000
DTSTAMP:20260425T165058
CREATED:20220701T015041Z
LAST-MODIFIED:20220701T015041Z
UID:2440-1657450800-1657454400@www.castlerockalc.com
SUMMARY:11:00     Greg Somero   Communion   Picnic
DESCRIPTION:
URL:https://www.castlerockalc.com/event/1100-greg-somero-communion-picnic/
END:VEVENT
BEGIN:VEVENT
DTSTART;TZID=UTC:20220709T080000
DTEND;TZID=UTC:20220709T130000
DTSTAMP:20260425T165058
CREATED:20220702T044519Z
LAST-MODIFIED:20220702T044519Z
UID:2451-1657353600-1657371600@www.castlerockalc.com
SUMMARY:8:00 Breakfast followed by Work Day
DESCRIPTION:
URL:https://www.castlerockalc.com/event/800-breakfast-followed-by-work-day/
END:VEVENT
BEGIN:VEVENT
DTSTART;TZID=UTC:20220703T110000
DTEND;TZID=UTC:20220703T120000
DTSTAMP:20260425T165058
CREATED:20220701T014841Z
LAST-MODIFIED:20220701T020141Z
UID:2438-1656846000-1656849600@www.castlerockalc.com
SUMMARY:11:00    Joel Kandoll
DESCRIPTION:
URL:https://www.castlerockalc.com/event/1100-am-joel-kandoll/
END:VEVENT
BEGIN:VEVENT
DTSTART;TZID=UTC:20220626T110000
DTEND;TZID=UTC:20220626T120000
DTSTAMP:20260425T165058
CREATED:20220531T173047Z
LAST-MODIFIED:20220531T173047Z
UID:2432-1656241200-1656244800@www.castlerockalc.com
SUMMARY:1100 Greg Somero
DESCRIPTION:
URL:https://www.castlerockalc.com/event/1100-greg-somero-28/
END:VEVENT
BEGIN:VEVENT
DTSTART;TZID=UTC:20220619T110000
DTEND;TZID=UTC:20220619T120000
DTSTAMP:20260425T165058
CREATED:20220531T173027Z
LAST-MODIFIED:20220531T173312Z
UID:2430-1655636400-1655640000@www.castlerockalc.com
SUMMARY:1100 Emanuel Aho Potluck
DESCRIPTION:
URL:https://www.castlerockalc.com/event/1100-emanuel-aho/
END:VEVENT
BEGIN:VEVENT
DTSTART;TZID=UTC:20220612T110000
DTEND;TZID=UTC:20220612T120000
DTSTAMP:20260425T165058
CREATED:20220531T172958Z
LAST-MODIFIED:20220531T172958Z
UID:2428-1655031600-1655035200@www.castlerockalc.com
SUMMARY:1100 Greg Somero Communion
DESCRIPTION:
URL:https://www.castlerockalc.com/event/1100-greg-somero-communion-4/
END:VEVENT
BEGIN:VEVENT
DTSTART;TZID=UTC:20220611T080000
DTEND;TZID=UTC:20220611T090000
DTSTAMP:20260425T165058
CREATED:20220531T173131Z
LAST-MODIFIED:20220531T173131Z
UID:2434-1654934400-1654938000@www.castlerockalc.com
SUMMARY:800 Men's Breakfast
DESCRIPTION:
URL:https://www.castlerockalc.com/event/800-mens-breakfast-2/
END:VEVENT
BEGIN:VEVENT
DTSTART;TZID=UTC:20220605T110000
DTEND;TZID=UTC:20220605T120000
DTSTAMP:20260425T165058
CREATED:20220531T172926Z
LAST-MODIFIED:20220531T172926Z
UID:2426-1654426800-1654430400@www.castlerockalc.com
SUMMARY:1100 Joel Kandoll Planned Meal
DESCRIPTION:
URL:https://www.castlerockalc.com/event/1100-joel-kandoll-planned-meal-2/
END:VEVENT
BEGIN:VEVENT
DTSTART;TZID=UTC:20220529T110000
DTEND;TZID=UTC:20220529T120000
DTSTAMP:20260425T165058
CREATED:20220430T173335Z
LAST-MODIFIED:20220430T173335Z
UID:2420-1653822000-1653825600@www.castlerockalc.com
SUMMARY:1100 Speaker TBA
DESCRIPTION:
URL:https://www.castlerockalc.com/event/1100-speaker-tba/
END:VEVENT
END:VCALENDAR