BEGIN:VCALENDAR
VERSION:2.0
PRODID:-//Castle Rock ALC - ECPv6.15.3//NONSGML v1.0//EN
CALSCALE:GREGORIAN
METHOD:PUBLISH
X-WR-CALNAME:Castle Rock ALC
X-ORIGINAL-URL:https://www.castlerockalc.com
X-WR-CALDESC:Events for Castle Rock ALC
REFRESH-INTERVAL;VALUE=DURATION:PT1H
X-Robots-Tag:noindex
X-PUBLISHED-TTL:PT1H
BEGIN:VTIMEZONE
TZID:UTC
BEGIN:STANDARD
TZOFFSETFROM:+0000
TZOFFSETTO:+0000
TZNAME:UTC
DTSTART:20220101T000000
END:STANDARD
END:VTIMEZONE
BEGIN:VEVENT
DTSTART;TZID=UTC:20230402T110000
DTEND;TZID=UTC:20230402T120000
DTSTAMP:20260425T114614
CREATED:20230402T024428Z
LAST-MODIFIED:20230402T024428Z
UID:2636-1680433200-1680436800@www.castlerockalc.com
SUMMARY:11:00am.    Joel Kandoll
DESCRIPTION:
URL:https://www.castlerockalc.com/event/1100am-joel-kandoll-6/
END:VEVENT
BEGIN:VEVENT
DTSTART;TZID=UTC:20230326T110000
DTEND;TZID=UTC:20230326T120000
DTSTAMP:20260425T114614
CREATED:20230301T224518Z
LAST-MODIFIED:20230301T224518Z
UID:2627-1679828400-1679832000@www.castlerockalc.com
SUMMARY:11:00am.    Greg Somero
DESCRIPTION:
URL:https://www.castlerockalc.com/event/1100am-greg-somero-7/
END:VEVENT
BEGIN:VEVENT
DTSTART;TZID=UTC:20230324T190000
DTEND;TZID=UTC:20230324T200000
DTSTAMP:20260425T114614
CREATED:20230301T224805Z
LAST-MODIFIED:20230301T224805Z
UID:2631-1679684400-1679688000@www.castlerockalc.com
SUMMARY:7:00pm.    Bible Study ~ Location TBA
DESCRIPTION:
URL:https://www.castlerockalc.com/event/700pm-bible-study-location-tba/
END:VEVENT
BEGIN:VEVENT
DTSTART;TZID=UTC:20230319T110000
DTEND;TZID=UTC:20230319T120000
DTSTAMP:20260425T114614
CREATED:20230301T224407Z
LAST-MODIFIED:20230301T224407Z
UID:2625-1679223600-1679227200@www.castlerockalc.com
SUMMARY:11:00am.    Emmanuel Aho * Meal
DESCRIPTION:
URL:https://www.castlerockalc.com/event/1100am-emmanuel-aho-meal/
END:VEVENT
BEGIN:VEVENT
DTSTART;TZID=UTC:20230312T110000
DTEND;TZID=UTC:20230312T120000
DTSTAMP:20260425T114614
CREATED:20230301T224249Z
LAST-MODIFIED:20230301T224249Z
UID:2623-1678618800-1678622400@www.castlerockalc.com
SUMMARY:11:00.    Greg Somero * Communion * Meal
DESCRIPTION:
URL:https://www.castlerockalc.com/event/1100-greg-somero-communion-meal/
END:VEVENT
BEGIN:VEVENT
DTSTART;TZID=UTC:20230310T190000
DTEND;TZID=UTC:20230310T200000
DTSTAMP:20260425T114614
CREATED:20230301T224621Z
LAST-MODIFIED:20230307T191827Z
UID:2629-1678474800-1678478400@www.castlerockalc.com
SUMMARY:7:00pm.    Bible Study ~ Allan & Diane’s
DESCRIPTION:
URL:https://www.castlerockalc.com/event/700pm-bible-study/
END:VEVENT
BEGIN:VEVENT
DTSTART;TZID=UTC:20230305T110000
DTEND;TZID=UTC:20230305T120000
DTSTAMP:20260425T114614
CREATED:20230301T224111Z
LAST-MODIFIED:20230301T224111Z
UID:2621-1678014000-1678017600@www.castlerockalc.com
SUMMARY:11:00am.    Allan Wirkkala
DESCRIPTION:
URL:https://www.castlerockalc.com/event/1100am-allan-wirkkala-3/
END:VEVENT
BEGIN:VEVENT
DTSTART;TZID=UTC:20230226T110000
DTEND;TZID=UTC:20230226T120000
DTSTAMP:20260425T114614
CREATED:20230203T144603Z
LAST-MODIFIED:20230203T144603Z
UID:2614-1677409200-1677412800@www.castlerockalc.com
SUMMARY:11:00am.   Greg Somero
DESCRIPTION:
URL:https://www.castlerockalc.com/event/1100am-greg-somero-6/
END:VEVENT
BEGIN:VEVENT
DTSTART;TZID=UTC:20230224T190000
DTEND;TZID=UTC:20230224T200000
DTSTAMP:20260425T114614
CREATED:20230203T145104Z
LAST-MODIFIED:20230219T235954Z
UID:2618-1677265200-1677268800@www.castlerockalc.com
SUMMARY:7:00pm.    Bible Study - Dave & Kristie’s
DESCRIPTION:
URL:https://www.castlerockalc.com/event/700pm-bible-study-tbd-2/
END:VEVENT
BEGIN:VEVENT
DTSTART;TZID=UTC:20230219T110000
DTEND;TZID=UTC:20230219T120000
DTSTAMP:20260425T114614
CREATED:20230203T144512Z
LAST-MODIFIED:20230203T144512Z
UID:2612-1676804400-1676808000@www.castlerockalc.com
SUMMARY:11:00am.   Jim Maunu
DESCRIPTION:
URL:https://www.castlerockalc.com/event/1100am-jim-maunu-3/
END:VEVENT
BEGIN:VEVENT
DTSTART;TZID=UTC:20230212T110000
DTEND;TZID=UTC:20230212T120000
DTSTAMP:20260425T114614
CREATED:20230203T144322Z
LAST-MODIFIED:20230203T144403Z
UID:2610-1676199600-1676203200@www.castlerockalc.com
SUMMARY:11:00am.   Greg Somero * Communion * Meal
DESCRIPTION:
URL:https://www.castlerockalc.com/event/1100am-greg-somero-communion-meal-4/
END:VEVENT
BEGIN:VEVENT
DTSTART;TZID=UTC:20230210T190000
DTEND;TZID=UTC:20230210T200000
DTSTAMP:20260425T114614
CREATED:20230203T144724Z
LAST-MODIFIED:20230203T144743Z
UID:2616-1676055600-1676059200@www.castlerockalc.com
SUMMARY:7:00pm.    Bible Study at Church  (Linda hosting)
DESCRIPTION:
URL:https://www.castlerockalc.com/event/700pm-bible-study-at-church-linda-hosting/
END:VEVENT
BEGIN:VEVENT
DTSTART;TZID=UTC:20230205T110000
DTEND;TZID=UTC:20230205T120000
DTSTAMP:20260425T114614
CREATED:20230203T144138Z
LAST-MODIFIED:20230203T144139Z
UID:2608-1675594800-1675598400@www.castlerockalc.com
SUMMARY:11:00am.    Aaron Hendrickson
DESCRIPTION:
URL:https://www.castlerockalc.com/event/1100am-aaron-hendrickson/
END:VEVENT
BEGIN:VEVENT
DTSTART;TZID=UTC:20230129T110000
DTEND;TZID=UTC:20230129T120000
DTSTAMP:20260425T114614
CREATED:20230102T182200Z
LAST-MODIFIED:20230102T182200Z
UID:2596-1674990000-1674993600@www.castlerockalc.com
SUMMARY:11:00am.    Ron Holmgren * Meal
DESCRIPTION:
URL:https://www.castlerockalc.com/event/1100am-ron-holmgren-meal-2/
END:VEVENT
BEGIN:VEVENT
DTSTART;TZID=UTC:20230127T190000
DTEND;TZID=UTC:20230127T200000
DTSTAMP:20260425T114614
CREATED:20230102T182505Z
LAST-MODIFIED:20230102T182505Z
UID:2600-1674846000-1674849600@www.castlerockalc.com
SUMMARY:7:00pm.    Bible Study @ Allan & Diane’s
DESCRIPTION:
URL:https://www.castlerockalc.com/event/700pm-bible-study-allan-dianes-2/
END:VEVENT
BEGIN:VEVENT
DTSTART;TZID=UTC:20230122T110000
DTEND;TZID=UTC:20230122T120000
DTSTAMP:20260425T114614
CREATED:20230102T182043Z
LAST-MODIFIED:20230102T182043Z
UID:2594-1674385200-1674388800@www.castlerockalc.com
SUMMARY:11:00am.    Greg Somero
DESCRIPTION:
URL:https://www.castlerockalc.com/event/1100am-greg-somero-5/
END:VEVENT
BEGIN:VEVENT
DTSTART;TZID=UTC:20230121T180000
DTEND;TZID=UTC:20230121T193000
DTSTAMP:20260425T114614
CREATED:20230102T182756Z
LAST-MODIFIED:20230102T182756Z
UID:2604-1674324000-1674329400@www.castlerockalc.com
SUMMARY:6:00pm.    Annual Meeting
DESCRIPTION:
URL:https://www.castlerockalc.com/event/600pm-annual-meeting-2/
END:VEVENT
BEGIN:VEVENT
DTSTART;TZID=UTC:20230115T110000
DTEND;TZID=UTC:20230115T120000
DTSTAMP:20260425T114614
CREATED:20230102T181945Z
LAST-MODIFIED:20230102T183208Z
UID:2592-1673780400-1673784000@www.castlerockalc.com
SUMMARY:11:00am.    Jim Maunu
DESCRIPTION:
URL:https://www.castlerockalc.com/event/1100am-jim-maunu-2/
END:VEVENT
BEGIN:VEVENT
DTSTART;TZID=UTC:20230114T080000
DTEND;TZID=UTC:20230114T090000
DTSTAMP:20260425T114614
CREATED:20230102T182644Z
LAST-MODIFIED:20230102T182644Z
UID:2602-1673683200-1673686800@www.castlerockalc.com
SUMMARY:8:00am.    Men’s Breakfast - Church
DESCRIPTION:
URL:https://www.castlerockalc.com/event/800am-mens-breakfast-church/
END:VEVENT
BEGIN:VEVENT
DTSTART;TZID=UTC:20230113T190000
DTEND;TZID=UTC:20230113T200000
DTSTAMP:20260425T114614
CREATED:20230102T182325Z
LAST-MODIFIED:20230109T033847Z
UID:2598-1673636400-1673640000@www.castlerockalc.com
SUMMARY:7:00pm.    Bible Study - Dave & Kristie Kandoll’s
DESCRIPTION:
URL:https://www.castlerockalc.com/event/700pm-bible-study-location-tbd/
END:VEVENT
BEGIN:VEVENT
DTSTART;TZID=UTC:20230108T110000
DTEND;TZID=UTC:20230108T120000
DTSTAMP:20260425T114614
CREATED:20230102T181856Z
LAST-MODIFIED:20230102T181856Z
UID:2590-1673175600-1673179200@www.castlerockalc.com
SUMMARY:11:00am.     Greg Somero * Communion * Meal
DESCRIPTION:
URL:https://www.castlerockalc.com/event/1100am-greg-somero-communion-meal-3/
END:VEVENT
BEGIN:VEVENT
DTSTART;TZID=UTC:20230101T110000
DTEND;TZID=UTC:20230101T120000
DTSTAMP:20260425T114614
CREATED:20230102T181650Z
LAST-MODIFIED:20230102T181650Z
UID:2588-1672570800-1672574400@www.castlerockalc.com
SUMMARY:11:00am.   Joel Kandoll
DESCRIPTION:
URL:https://www.castlerockalc.com/event/1100am-joel-kandoll-5/
END:VEVENT
BEGIN:VEVENT
DTSTART;TZID=UTC:20221225T110000
DTEND;TZID=UTC:20221225T120000
DTSTAMP:20260425T114614
CREATED:20221222T172413Z
LAST-MODIFIED:20221222T172413Z
UID:2585-1671966000-1671969600@www.castlerockalc.com
SUMMARY:11am.  Joel Kandoll
DESCRIPTION:
URL:https://www.castlerockalc.com/event/11am-joel-kandoll-2/
END:VEVENT
BEGIN:VEVENT
DTSTART;TZID=UTC:20221221T190000
DTEND;TZID=UTC:20221221T200000
DTSTAMP:20260425T114614
CREATED:20221201T204312Z
LAST-MODIFIED:20221201T204312Z
UID:2576-1671649200-1671652800@www.castlerockalc.com
SUMMARY:Advent Service ~ Greg Somero
DESCRIPTION:
URL:https://www.castlerockalc.com/event/advent-service-greg-somero/
END:VEVENT
BEGIN:VEVENT
DTSTART;TZID=UTC:20221218T110000
DTEND;TZID=UTC:20221218T120000
DTSTAMP:20260425T114614
CREATED:20221201T203752Z
LAST-MODIFIED:20221201T203752Z
UID:2568-1671361200-1671364800@www.castlerockalc.com
SUMMARY:11am.  Jim Maunu ~ Christmas Program ~ Meal
DESCRIPTION:
URL:https://www.castlerockalc.com/event/11am-jim-maunu-christmas-program-meal/
END:VEVENT
BEGIN:VEVENT
DTSTART;TZID=UTC:20221214T190000
DTEND;TZID=UTC:20221214T200000
DTSTAMP:20260425T114614
CREATED:20221201T204141Z
LAST-MODIFIED:20221201T204141Z
UID:2574-1671044400-1671048000@www.castlerockalc.com
SUMMARY:7pm.   Advent Service ~ Joel Kandoll
DESCRIPTION:
URL:https://www.castlerockalc.com/event/7pm-advent-service-joel-kandoll/
END:VEVENT
BEGIN:VEVENT
DTSTART;TZID=UTC:20221211T110000
DTEND;TZID=UTC:20221211T110000
DTSTAMP:20260425T114614
CREATED:20221201T203601Z
LAST-MODIFIED:20221201T203601Z
UID:2566-1670756400-1670756400@www.castlerockalc.com
SUMMARY:11am.  Greg Somero * Communion
DESCRIPTION:
URL:https://www.castlerockalc.com/event/11am-greg-somero-communion/
END:VEVENT
BEGIN:VEVENT
DTSTART;TZID=UTC:20221209T190000
DTEND;TZID=UTC:20221209T200000
DTSTAMP:20260425T114614
CREATED:20221201T204029Z
LAST-MODIFIED:20221201T204029Z
UID:2572-1670612400-1670616000@www.castlerockalc.com
SUMMARY:7pm.   Bible Study ~ Joel & Elaine’s
DESCRIPTION:
URL:https://www.castlerockalc.com/event/7pm-bible-study-joel-elaines/
END:VEVENT
BEGIN:VEVENT
DTSTART;TZID=UTC:20221208T183000
DTEND;TZID=UTC:20221208T193000
DTSTAMP:20260425T114614
CREATED:20221201T225121Z
LAST-MODIFIED:20221201T225153Z
UID:2578-1670524200-1670527800@www.castlerockalc.com
SUMMARY:6:30pm ~ Board Meeting ~ Church
DESCRIPTION:
URL:https://www.castlerockalc.com/event/6630pm-board-meeting-church/
END:VEVENT
BEGIN:VEVENT
DTSTART;TZID=UTC:20221204T110000
DTEND;TZID=UTC:20221204T120000
DTSTAMP:20260425T114614
CREATED:20221201T203450Z
LAST-MODIFIED:20221201T203450Z
UID:2564-1670151600-1670155200@www.castlerockalc.com
SUMMARY:11am.  Joel Kandoll
DESCRIPTION:
URL:https://www.castlerockalc.com/event/11am-joel-kandoll/
END:VEVENT
END:VCALENDAR