BEGIN:VCALENDAR
VERSION:2.0
PRODID:-//Castle Rock ALC - ECPv6.15.3//NONSGML v1.0//EN
CALSCALE:GREGORIAN
METHOD:PUBLISH
X-WR-CALNAME:Castle Rock ALC
X-ORIGINAL-URL:https://www.castlerockalc.com
X-WR-CALDESC:Events for Castle Rock ALC
REFRESH-INTERVAL;VALUE=DURATION:PT1H
X-Robots-Tag:noindex
X-PUBLISHED-TTL:PT1H
BEGIN:VTIMEZONE
TZID:UTC
BEGIN:STANDARD
TZOFFSETFROM:+0000
TZOFFSETTO:+0000
TZNAME:UTC
DTSTART:20230101T000000
END:STANDARD
END:VTIMEZONE
BEGIN:VEVENT
DTSTART;TZID=UTC:20240505T110000
DTEND;TZID=UTC:20240505T120000
DTSTAMP:20260425T130703
CREATED:20240430T204355Z
LAST-MODIFIED:20240430T204355Z
UID:2850-1714906800-1714910400@www.castlerockalc.com
SUMMARY:11:00am.  Joel Kandoll
DESCRIPTION:
URL:https://www.castlerockalc.com/event/1100am-joel-kandoll-14/
END:VEVENT
BEGIN:VEVENT
DTSTART;TZID=UTC:20240428T110000
DTEND;TZID=UTC:20240428T120000
DTSTAMP:20260425T130703
CREATED:20240330T235905Z
LAST-MODIFIED:20240421T193238Z
UID:2837-1714302000-1714305600@www.castlerockalc.com
SUMMARY:11:00am.  Jimmy Maunu
DESCRIPTION:
URL:https://www.castlerockalc.com/event/1100am-greg-somero-14/
END:VEVENT
BEGIN:VEVENT
DTSTART;TZID=UTC:20240426T190000
DTEND;TZID=UTC:20240426T200000
DTSTAMP:20260425T130703
CREATED:20240331T000145Z
LAST-MODIFIED:20240331T000145Z
UID:2841-1714158000-1714161600@www.castlerockalc.com
SUMMARY:7:00pm.   Bible Study at Joel and Elaine’s
DESCRIPTION:
URL:https://www.castlerockalc.com/event/700pm-bible-study-at-joel-and-elaines-2/
END:VEVENT
BEGIN:VEVENT
DTSTART;TZID=UTC:20240421T110000
DTEND;TZID=UTC:20240421T120000
DTSTAMP:20260425T130703
CREATED:20240330T235737Z
LAST-MODIFIED:20240331T003941Z
UID:2835-1713697200-1713700800@www.castlerockalc.com
SUMMARY:11:00am.    Allan Wirkkala
DESCRIPTION:
URL:https://www.castlerockalc.com/event/1100am-tbd-meal/
END:VEVENT
BEGIN:VEVENT
DTSTART;TZID=UTC:20240414T110000
DTEND;TZID=UTC:20240414T120000
DTSTAMP:20260425T130703
CREATED:20240330T235623Z
LAST-MODIFIED:20240330T235623Z
UID:2833-1713092400-1713096000@www.castlerockalc.com
SUMMARY:11:00am.  Greg Somero * Communion * Meal
DESCRIPTION:
URL:https://www.castlerockalc.com/event/1100am-greg-somero-communion-meal-9/
END:VEVENT
BEGIN:VEVENT
DTSTART;TZID=UTC:20240412T190000
DTEND;TZID=UTC:20240412T200000
DTSTAMP:20260425T130703
CREATED:20240331T000042Z
LAST-MODIFIED:20240331T000042Z
UID:2839-1712948400-1712952000@www.castlerockalc.com
SUMMARY:7:00pm.  Bible Study at Dave and Kristie’s
DESCRIPTION:
URL:https://www.castlerockalc.com/event/700pm-bible-study-at-dave-and-kristies/
END:VEVENT
BEGIN:VEVENT
DTSTART;TZID=UTC:20240411T180000
DTEND;TZID=UTC:20240411T190000
DTSTAMP:20260425T130703
CREATED:20240331T000252Z
LAST-MODIFIED:20240331T000252Z
UID:2843-1712858400-1712862000@www.castlerockalc.com
SUMMARY:6:00pm.  Board Meeting at Dan and Paula’s
DESCRIPTION:
URL:https://www.castlerockalc.com/event/600pm-board-meeting-at-dan-and-paulas/
END:VEVENT
BEGIN:VEVENT
DTSTART;TZID=UTC:20240407T110000
DTEND;TZID=UTC:20240407T120000
DTSTAMP:20260425T130703
CREATED:20240330T235503Z
LAST-MODIFIED:20240330T235503Z
UID:2831-1712487600-1712491200@www.castlerockalc.com
SUMMARY:11:00am.  Joel Kandoll
DESCRIPTION:
URL:https://www.castlerockalc.com/event/1100am-joel-kandoll-13/
END:VEVENT
BEGIN:VEVENT
DTSTART;TZID=UTC:20240331T090000
DTEND;TZID=UTC:20240331T120000
DTSTAMP:20260425T130703
CREATED:20240301T164635Z
LAST-MODIFIED:20240301T165309Z
UID:2823-1711875600-1711886400@www.castlerockalc.com
SUMMARY:11am.  Greg Somero * Easter Brunch
DESCRIPTION:
URL:https://www.castlerockalc.com/event/11am-greg-somero-easter-brunch/
END:VEVENT
BEGIN:VEVENT
DTSTART;TZID=UTC:20240324T110000
DTEND;TZID=UTC:20240324T120000
DTSTAMP:20260425T130703
CREATED:20240301T164458Z
LAST-MODIFIED:20240301T164458Z
UID:2821-1711278000-1711281600@www.castlerockalc.com
SUMMARY:11am.  Jimmy Maunu
DESCRIPTION:
URL:https://www.castlerockalc.com/event/11am-jimmy-maunu/
END:VEVENT
BEGIN:VEVENT
DTSTART;TZID=UTC:20240322T190000
DTEND;TZID=UTC:20240322T200000
DTSTAMP:20260425T130703
CREATED:20240301T164858Z
LAST-MODIFIED:20240301T164858Z
UID:2827-1711134000-1711137600@www.castlerockalc.com
SUMMARY:7:00pm.  Bible Study at Allan & Diane Wirkkala’s
DESCRIPTION:
URL:https://www.castlerockalc.com/event/700pm-bible-study-at-allan-diane-wirkkalas/
END:VEVENT
BEGIN:VEVENT
DTSTART;TZID=UTC:20240317T110000
DTEND;TZID=UTC:20240317T120000
DTSTAMP:20260425T130703
CREATED:20240301T164409Z
LAST-MODIFIED:20240301T165215Z
UID:2819-1710673200-1710676800@www.castlerockalc.com
SUMMARY:11am.  Joel Kandoll
DESCRIPTION:
URL:https://www.castlerockalc.com/event/11am-joel-kandoll-3/
END:VEVENT
BEGIN:VEVENT
DTSTART;TZID=UTC:20240310T110000
DTEND;TZID=UTC:20240310T120000
DTSTAMP:20260425T130703
CREATED:20240301T164227Z
LAST-MODIFIED:20240301T164227Z
UID:2817-1710068400-1710072000@www.castlerockalc.com
SUMMARY:11am.  Greg Somero. Communion * Meal
DESCRIPTION:
URL:https://www.castlerockalc.com/event/11am-greg-somero-communion-meal-2/
END:VEVENT
BEGIN:VEVENT
DTSTART;TZID=UTC:20240308T190000
DTEND;TZID=UTC:20240308T200000
DTSTAMP:20260425T130703
CREATED:20240301T164748Z
LAST-MODIFIED:20240301T164748Z
UID:2825-1709924400-1709928000@www.castlerockalc.com
SUMMARY:7:00pm.   Bible Study at the church
DESCRIPTION:
URL:https://www.castlerockalc.com/event/700pm-bible-study-at-the-church-2/
END:VEVENT
BEGIN:VEVENT
DTSTART;TZID=UTC:20240303T110000
DTEND;TZID=UTC:20240303T120000
DTSTAMP:20260425T130703
CREATED:20240301T164055Z
LAST-MODIFIED:20240301T164310Z
UID:2815-1709463600-1709467200@www.castlerockalc.com
SUMMARY:11am.  Allan Wirkkala
DESCRIPTION:
URL:https://www.castlerockalc.com/event/11am-allan-wirkkala/
END:VEVENT
BEGIN:VEVENT
DTSTART;TZID=UTC:20240225T110000
DTEND;TZID=UTC:20240225T120000
DTSTAMP:20260425T130703
CREATED:20240201T062640Z
LAST-MODIFIED:20240201T062640Z
UID:2807-1708858800-1708862400@www.castlerockalc.com
SUMMARY:11:00am.  Greg Somero
DESCRIPTION:
URL:https://www.castlerockalc.com/event/1100am-greg-somero-13/
END:VEVENT
BEGIN:VEVENT
DTSTART;TZID=UTC:20240223T190000
DTEND;TZID=UTC:20240223T200000
DTSTAMP:20260425T130703
CREATED:20240201T062943Z
LAST-MODIFIED:20240211T220022Z
UID:2812-1708714800-1708718400@www.castlerockalc.com
SUMMARY:7:00pm.  Bible Study * Dave & Kristie Kandoll’s
DESCRIPTION:
URL:https://www.castlerockalc.com/event/700pm-bible-study-church/
END:VEVENT
BEGIN:VEVENT
DTSTART;TZID=UTC:20240218T110000
DTEND;TZID=UTC:20240218T120000
DTSTAMP:20260425T130703
CREATED:20240201T062515Z
LAST-MODIFIED:20240201T062515Z
UID:2805-1708254000-1708257600@www.castlerockalc.com
SUMMARY:11:00am.  Jim Maunu * Meal
DESCRIPTION:
URL:https://www.castlerockalc.com/event/1100am-jim-maunu-meal/
END:VEVENT
BEGIN:VEVENT
DTSTART;TZID=UTC:20240211T110000
DTEND;TZID=UTC:20240211T120000
DTSTAMP:20260425T130703
CREATED:20240201T062412Z
LAST-MODIFIED:20240201T062412Z
UID:2802-1707649200-1707652800@www.castlerockalc.com
SUMMARY:Greg Somero * Communion * Meal
DESCRIPTION:
URL:https://www.castlerockalc.com/event/greg-somero-communion-meal-2/
END:VEVENT
BEGIN:VEVENT
DTSTART;TZID=UTC:20240209T190000
DTEND;TZID=UTC:20240209T200000
DTSTAMP:20260425T130703
CREATED:20240201T062834Z
LAST-MODIFIED:20240201T062834Z
UID:2810-1707505200-1707508800@www.castlerockalc.com
SUMMARY:7:00pm.  Bible Study * Beth Wirkkala’s
DESCRIPTION:
URL:https://www.castlerockalc.com/event/700pm-bible-study-beth-wirkkalas/
END:VEVENT
BEGIN:VEVENT
DTSTART;TZID=UTC:20240204T110000
DTEND;TZID=UTC:20240204T120000
DTSTAMP:20260425T130703
CREATED:20240201T062300Z
LAST-MODIFIED:20240201T062300Z
UID:2800-1707044400-1707048000@www.castlerockalc.com
SUMMARY:11:00am.  Joel Kandoll
DESCRIPTION:
URL:https://www.castlerockalc.com/event/1100am-joel-kandoll-12/
END:VEVENT
BEGIN:VEVENT
DTSTART;TZID=UTC:20240128T110000
DTEND;TZID=UTC:20240128T120000
DTSTAMP:20260425T130703
CREATED:20240102T185413Z
LAST-MODIFIED:20240102T185440Z
UID:2784-1706439600-1706443200@www.castlerockalc.com
SUMMARY:11:00am.  Greg Somero
DESCRIPTION:
URL:https://www.castlerockalc.com/event/1100-greg-somero-31/
END:VEVENT
BEGIN:VEVENT
DTSTART;TZID=UTC:20240126T190000
DTEND;TZID=UTC:20240126T200000
DTSTAMP:20260425T130703
CREATED:20240102T185743Z
LAST-MODIFIED:20240102T185809Z
UID:2791-1706295600-1706299200@www.castlerockalc.com
SUMMARY:7:00pm.   Bible Study at Allan and Diane’s
DESCRIPTION:
URL:https://www.castlerockalc.com/event/700pm-bible-study-at-allan-and-dianes/
END:VEVENT
BEGIN:VEVENT
DTSTART;TZID=UTC:20240121T110000
DTEND;TZID=UTC:20240121T120000
DTSTAMP:20260425T130703
CREATED:20240102T185323Z
LAST-MODIFIED:20240120T163841Z
UID:2782-1705834800-1705838400@www.castlerockalc.com
SUMMARY:11:00.  Greg Somero * Meal
DESCRIPTION:
URL:https://www.castlerockalc.com/event/1100-tbd-meal/
END:VEVENT
BEGIN:VEVENT
DTSTART;TZID=UTC:20240120T180000
DTEND;TZID=UTC:20240120T193000
DTSTAMP:20260425T130703
CREATED:20240102T185540Z
LAST-MODIFIED:20240113T222040Z
UID:2787-1705773600-1705779000@www.castlerockalc.com
SUMMARY:6:00pm.   Annual Meeting
DESCRIPTION:
URL:https://www.castlerockalc.com/event/600pm-annual-meeting-3/
END:VEVENT
BEGIN:VEVENT
DTSTART;TZID=UTC:20240114T110000
DTEND;TZID=UTC:20240114T120000
DTSTAMP:20260425T130703
CREATED:20240102T185221Z
LAST-MODIFIED:20240113T222004Z
UID:2780-1705230000-1705233600@www.castlerockalc.com
SUMMARY:Church cancelled due to cold weather
DESCRIPTION:
URL:https://www.castlerockalc.com/event/greg-somero-communion-meal/
END:VEVENT
BEGIN:VEVENT
DTSTART;TZID=UTC:20240112T190000
DTEND;TZID=UTC:20240112T200000
DTSTAMP:20260425T130703
CREATED:20240102T185649Z
LAST-MODIFIED:20240113T221756Z
UID:2789-1705086000-1705089600@www.castlerockalc.com
SUMMARY:7:00pm.    Bible Study cancelled
DESCRIPTION:
URL:https://www.castlerockalc.com/event/700pm-bible-study-at-joel-and-elaines/
END:VEVENT
BEGIN:VEVENT
DTSTART;TZID=UTC:20240107T110000
DTEND;TZID=UTC:20240107T120000
DTSTAMP:20260425T130703
CREATED:20240102T185102Z
LAST-MODIFIED:20240102T185102Z
UID:2778-1704625200-1704628800@www.castlerockalc.com
SUMMARY:11:00.  Joel Kandoll
DESCRIPTION:
URL:https://www.castlerockalc.com/event/1100-joel-kandoll-84/
END:VEVENT
BEGIN:VEVENT
DTSTART;TZID=UTC:20231231T110000
DTEND;TZID=UTC:20231231T120000
DTSTAMP:20260425T130703
CREATED:20231204T213308Z
LAST-MODIFIED:20231204T213308Z
UID:2768-1704020400-1704024000@www.castlerockalc.com
SUMMARY:11:00am.   Aaron Hendrickson
DESCRIPTION:
URL:https://www.castlerockalc.com/event/1100am-aaron-hendrickson-2/
END:VEVENT
BEGIN:VEVENT
DTSTART;TZID=UTC:20231224T110000
DTEND;TZID=UTC:20231224T120000
DTSTAMP:20260425T130703
CREATED:20231204T213153Z
LAST-MODIFIED:20231204T213153Z
UID:2766-1703415600-1703419200@www.castlerockalc.com
SUMMARY:11:00am. SS Christmas Program * Greg Somero * Soup\, Bread & Cookie Lunch
DESCRIPTION:
URL:https://www.castlerockalc.com/event/1100am-ss-christmas-program-greg-somero-soup-bread-cookie-lunch/
END:VEVENT
END:VCALENDAR