BEGIN:VCALENDAR
VERSION:2.0
PRODID:-//Castle Rock ALC - ECPv6.15.3//NONSGML v1.0//EN
CALSCALE:GREGORIAN
METHOD:PUBLISH
X-WR-CALNAME:Castle Rock ALC
X-ORIGINAL-URL:https://www.castlerockalc.com
X-WR-CALDESC:Events for Castle Rock ALC
REFRESH-INTERVAL;VALUE=DURATION:PT1H
X-Robots-Tag:noindex
X-PUBLISHED-TTL:PT1H
BEGIN:VTIMEZONE
TZID:UTC
BEGIN:STANDARD
TZOFFSETFROM:+0000
TZOFFSETTO:+0000
TZNAME:UTC
DTSTART:20230101T000000
END:STANDARD
END:VTIMEZONE
BEGIN:VEVENT
DTSTART;TZID=UTC:20230917T110000
DTEND;TZID=UTC:20230917T120000
DTSTAMP:20260425T122736
CREATED:20230903T050217Z
LAST-MODIFIED:20230903T050217Z
UID:2716-1694948400-1694952000@www.castlerockalc.com
SUMMARY:11am. Emanuel Aho * Meal
DESCRIPTION:
URL:https://www.castlerockalc.com/event/11am-emanuel-aho-meal/
END:VEVENT
BEGIN:VEVENT
DTSTART;TZID=UTC:20230915T183000
DTEND;TZID=UTC:20230915T193000
DTSTAMP:20260425T122736
CREATED:20230903T050500Z
LAST-MODIFIED:20230903T050523Z
UID:2720-1694802600-1694806200@www.castlerockalc.com
SUMMARY:6:30pm.  Bible Study ~ Carl and Donna’s
DESCRIPTION:
URL:https://www.castlerockalc.com/event/630pm-bible-study-carl-and-donnas/
END:VEVENT
BEGIN:VEVENT
DTSTART;TZID=UTC:20230910T110000
DTEND;TZID=UTC:20230910T120000
DTSTAMP:20260425T122736
CREATED:20230903T050109Z
LAST-MODIFIED:20230903T050856Z
UID:2714-1694343600-1694347200@www.castlerockalc.com
SUMMARY:11am.  Greg Somero * Communion * Meal
DESCRIPTION:
URL:https://www.castlerockalc.com/event/11am-greg-somero-communion-meal/
END:VEVENT
BEGIN:VEVENT
DTSTART;TZID=UTC:20230827T110000
DTEND;TZID=UTC:20230827T120000
DTSTAMP:20260425T122736
CREATED:20230801T022023Z
LAST-MODIFIED:20230801T022023Z
UID:2694-1693134000-1693137600@www.castlerockalc.com
SUMMARY:11:00.   Greg Somero
DESCRIPTION:
URL:https://www.castlerockalc.com/event/1100-greg-somero-30/
END:VEVENT
BEGIN:VEVENT
DTSTART;TZID=UTC:20230820T110000
DTEND;TZID=UTC:20230820T120000
DTSTAMP:20260425T122736
CREATED:20230801T021901Z
LAST-MODIFIED:20230814T002955Z
UID:2692-1692529200-1692532800@www.castlerockalc.com
SUMMARY:11:00am.   Allan Wirkkala
DESCRIPTION:
URL:https://www.castlerockalc.com/event/1100am-tbd-2/
END:VEVENT
BEGIN:VEVENT
DTSTART;TZID=UTC:20230813T110000
DTEND;TZID=UTC:20230813T120000
DTSTAMP:20260425T122736
CREATED:20230801T021708Z
LAST-MODIFIED:20230801T021708Z
UID:2690-1691924400-1691928000@www.castlerockalc.com
SUMMARY:11:00am.  Greg Somero * Communion * Meal
DESCRIPTION:
URL:https://www.castlerockalc.com/event/1100am-greg-somero-communion-meal-6/
END:VEVENT
BEGIN:VEVENT
DTSTART;TZID=UTC:20230811T100000
DTEND;TZID=UTC:20230811T130000
DTSTAMP:20260425T122736
CREATED:20230801T024348Z
LAST-MODIFIED:20230801T024348Z
UID:2709-1691748000-1691758800@www.castlerockalc.com
SUMMARY:10:00am - 1:00pm.  Kids Meals. St Paul’s Lutheran
DESCRIPTION:
URL:https://www.castlerockalc.com/event/1000am-100pm-kids-meals-st-pauls-lutheran-5/
END:VEVENT
BEGIN:VEVENT
DTSTART;TZID=UTC:20230810T100000
DTEND;TZID=UTC:20230810T130000
DTSTAMP:20260425T122736
CREATED:20230801T024121Z
LAST-MODIFIED:20230801T024154Z
UID:2707-1691661600-1691672400@www.castlerockalc.com
SUMMARY:10:00am - 1:00pm. Kids Meals. St Paul’s Lutheran
DESCRIPTION:
URL:https://www.castlerockalc.com/event/1000am-100pm-kids-meals-st-pauls-lutheran-4/
END:VEVENT
BEGIN:VEVENT
DTSTART;TZID=UTC:20230809T100000
DTEND;TZID=UTC:20230809T130000
DTSTAMP:20260425T122736
CREATED:20230801T023920Z
LAST-MODIFIED:20230801T023920Z
UID:2705-1691575200-1691586000@www.castlerockalc.com
SUMMARY:10:00am - 1:00pm.  Kids Meals St Paul’s Lutheran
DESCRIPTION:
URL:https://www.castlerockalc.com/event/1000am-100pm-kids-meals-st-pauls-lutheran-3/
END:VEVENT
BEGIN:VEVENT
DTSTART;TZID=UTC:20230808T100000
DTEND;TZID=UTC:20230808T130000
DTSTAMP:20260425T122736
CREATED:20230801T023507Z
LAST-MODIFIED:20230801T023507Z
UID:2701-1691488800-1691499600@www.castlerockalc.com
SUMMARY:10:00am - 1:00pm.  Kids Meals. St Paul’s Lutheran
DESCRIPTION:
URL:https://www.castlerockalc.com/event/1000am-100pm-kids-meals-st-pauls-lutheran-2/
END:VEVENT
BEGIN:VEVENT
DTSTART;TZID=UTC:20230807T100000
DTEND;TZID=UTC:20230807T130000
DTSTAMP:20260425T122736
CREATED:20230801T022901Z
LAST-MODIFIED:20230801T023115Z
UID:2698-1691402400-1691413200@www.castlerockalc.com
SUMMARY:10:00am - 1:00pm. Kids Meals. St Paul’s Lutheran
DESCRIPTION:
URL:https://www.castlerockalc.com/event/1000am-100pm-kids-meals-st-pauls-lutheran/
END:VEVENT
BEGIN:VEVENT
DTSTART;TZID=UTC:20230806T110000
DTEND;TZID=UTC:20230806T120000
DTSTAMP:20260425T122736
CREATED:20230801T021354Z
LAST-MODIFIED:20230801T021354Z
UID:2688-1691319600-1691323200@www.castlerockalc.com
SUMMARY:11:00am   Joel Kandoll
DESCRIPTION:
URL:https://www.castlerockalc.com/event/1100am-joel-kandoll-10/
END:VEVENT
BEGIN:VEVENT
DTSTART;TZID=UTC:20230730T110000
DTEND;TZID=UTC:20230730T120000
DTSTAMP:20260425T122736
CREATED:20230702T232310Z
LAST-MODIFIED:20230702T232310Z
UID:2682-1690714800-1690718400@www.castlerockalc.com
SUMMARY:11:00am.  Jim Maunu
DESCRIPTION:
URL:https://www.castlerockalc.com/event/1100am-jim-maunu-6/
END:VEVENT
BEGIN:VEVENT
DTSTART;TZID=UTC:20230723T110000
DTEND;TZID=UTC:20230723T120000
DTSTAMP:20260425T122736
CREATED:20230702T232504Z
LAST-MODIFIED:20230710T231514Z
UID:2684-1690110000-1690113600@www.castlerockalc.com
SUMMARY:11:00am.   Tom Lappi
DESCRIPTION:
URL:https://www.castlerockalc.com/event/1100am-tbd/
END:VEVENT
BEGIN:VEVENT
DTSTART;TZID=UTC:20230717T110000
DTEND;TZID=UTC:20230717T120000
DTSTAMP:20260425T122736
CREATED:20230702T232115Z
LAST-MODIFIED:20230710T041711Z
UID:2680-1689591600-1689595200@www.castlerockalc.com
SUMMARY:11:00am.  Allan Wirkkala
DESCRIPTION:
URL:https://www.castlerockalc.com/event/1100am-emanuel-aho/
END:VEVENT
BEGIN:VEVENT
DTSTART;TZID=UTC:20230709T110000
DTEND;TZID=UTC:20230709T120000
DTSTAMP:20260425T122736
CREATED:20230702T232021Z
LAST-MODIFIED:20230702T233230Z
UID:2678-1688900400-1688904000@www.castlerockalc.com
SUMMARY:11:00am.  Greg Somero * Communion * Meal
DESCRIPTION:
URL:https://www.castlerockalc.com/event/1100am-greg-somero-communion-meal-5/
END:VEVENT
BEGIN:VEVENT
DTSTART;TZID=UTC:20230702T110000
DTEND;TZID=UTC:20230702T120000
DTSTAMP:20260425T122736
CREATED:20230702T231908Z
LAST-MODIFIED:20230702T231908Z
UID:2676-1688295600-1688299200@www.castlerockalc.com
SUMMARY:11:00am.  Joel Kandoll
DESCRIPTION:
URL:https://www.castlerockalc.com/event/1100am-joel-kandoll-9/
END:VEVENT
BEGIN:VEVENT
DTSTART;TZID=UTC:20230625T110000
DTEND;TZID=UTC:20230625T120000
DTSTAMP:20260425T122736
CREATED:20230603T010906Z
LAST-MODIFIED:20230603T010906Z
UID:2671-1687690800-1687694400@www.castlerockalc.com
SUMMARY:11:00am.  Greg Somero
DESCRIPTION:
URL:https://www.castlerockalc.com/event/1100am-greg-somero-10/
END:VEVENT
BEGIN:VEVENT
DTSTART;TZID=UTC:20230618T110000
DTEND;TZID=UTC:20230618T120000
DTSTAMP:20260425T122736
CREATED:20230603T010750Z
LAST-MODIFIED:20230603T010750Z
UID:2669-1687086000-1687089600@www.castlerockalc.com
SUMMARY:11:00am.  Jim Maunu
DESCRIPTION:
URL:https://www.castlerockalc.com/event/1100am-jim-maunu-5/
END:VEVENT
BEGIN:VEVENT
DTSTART;TZID=UTC:20230611T110000
DTEND;TZID=UTC:20230611T120000
DTSTAMP:20260425T122736
CREATED:20230603T010648Z
LAST-MODIFIED:20230603T010648Z
UID:2667-1686481200-1686484800@www.castlerockalc.com
SUMMARY:11:00.  Greg Somero * Communion * Meal
DESCRIPTION:
URL:https://www.castlerockalc.com/event/1100-greg-somero-communion-meal-2/
END:VEVENT
BEGIN:VEVENT
DTSTART;TZID=UTC:20230604T110000
DTEND;TZID=UTC:20230604T120000
DTSTAMP:20260425T122736
CREATED:20230603T010531Z
LAST-MODIFIED:20230603T010531Z
UID:2665-1685876400-1685880000@www.castlerockalc.com
SUMMARY:11:00am.  Joel Kandoll
DESCRIPTION:
URL:https://www.castlerockalc.com/event/1100am-joel-kandoll-8/
END:VEVENT
BEGIN:VEVENT
DTSTART;TZID=UTC:20230603T180000
DTEND;TZID=UTC:20230603T193000
DTSTAMP:20260425T122736
CREATED:20230603T011217Z
LAST-MODIFIED:20230603T011217Z
UID:2673-1685815200-1685820600@www.castlerockalc.com
SUMMARY:6:00pm.   Semi-Annual Meeting ~ Church
DESCRIPTION:
URL:https://www.castlerockalc.com/event/600pm-semi-annual-meeting-church/
END:VEVENT
BEGIN:VEVENT
DTSTART;TZID=UTC:20230528T110000
DTEND;TZID=UTC:20230528T120000
DTSTAMP:20260425T122736
CREATED:20230502T222554Z
LAST-MODIFIED:20230502T222554Z
UID:2658-1685271600-1685275200@www.castlerockalc.com
SUMMARY:11:00am.  Greg Somero
DESCRIPTION:
URL:https://www.castlerockalc.com/event/1100am-greg-somero-9/
END:VEVENT
BEGIN:VEVENT
DTSTART;TZID=UTC:20230526T190000
DTEND;TZID=UTC:20230526T190000
DTSTAMP:20260425T122736
CREATED:20230502T222817Z
LAST-MODIFIED:20230502T223213Z
UID:2662-1685127600-1685127600@www.castlerockalc.com
SUMMARY:No Bible Study
DESCRIPTION:
URL:https://www.castlerockalc.com/event/no-bible-study/
END:VEVENT
BEGIN:VEVENT
DTSTART;TZID=UTC:20230521T110000
DTEND;TZID=UTC:20230521T120000
DTSTAMP:20260425T122736
CREATED:20230502T222446Z
LAST-MODIFIED:20230502T222446Z
UID:2656-1684666800-1684670400@www.castlerockalc.com
SUMMARY:11:00am.  Emanuel Aho * Meal
DESCRIPTION:
URL:https://www.castlerockalc.com/event/1100am-emanuel-aho-meal/
END:VEVENT
BEGIN:VEVENT
DTSTART;TZID=UTC:20230514T110000
DTEND;TZID=UTC:20230514T120000
DTSTAMP:20260425T122736
CREATED:20230502T222344Z
LAST-MODIFIED:20230502T222344Z
UID:2654-1684062000-1684065600@www.castlerockalc.com
SUMMARY:11:00am.  Greg Somero * Communion
DESCRIPTION:
URL:https://www.castlerockalc.com/event/1100am-greg-somero-communion-2/
END:VEVENT
BEGIN:VEVENT
DTSTART;TZID=UTC:20230512T190000
DTEND;TZID=UTC:20230512T200000
DTSTAMP:20260425T122736
CREATED:20230502T222711Z
LAST-MODIFIED:20230502T222711Z
UID:2660-1683918000-1683921600@www.castlerockalc.com
SUMMARY:7:00pm.  Bible Study.  Allan & Diane Wirkkala’s
DESCRIPTION:
URL:https://www.castlerockalc.com/event/700pm-bible-study-allan-diane-wirkkalas/
END:VEVENT
BEGIN:VEVENT
DTSTART;TZID=UTC:20230507T110000
DTEND;TZID=UTC:20230507T120000
DTSTAMP:20260425T122736
CREATED:20230502T222240Z
LAST-MODIFIED:20230502T222240Z
UID:2652-1683457200-1683460800@www.castlerockalc.com
SUMMARY:11:00am.  Joel Kandoll
DESCRIPTION:
URL:https://www.castlerockalc.com/event/1100am-joel-kandoll-7/
END:VEVENT
BEGIN:VEVENT
DTSTART;TZID=UTC:20230430T080000
DTEND;TZID=UTC:20230430T170000
DTSTAMP:20260425T122736
CREATED:20230402T024823Z
LAST-MODIFIED:20230424T015805Z
UID:2645-1682841600-1682874000@www.castlerockalc.com
SUMMARY:11:00am.     Allan Wirkkala
DESCRIPTION:
URL:https://www.castlerockalc.com/event/1100am-tba/
END:VEVENT
BEGIN:VEVENT
DTSTART;TZID=UTC:20230428T190000
DTEND;TZID=UTC:20230428T200000
DTSTAMP:20260425T122736
CREATED:20230402T025143Z
LAST-MODIFIED:20230402T025143Z
UID:2649-1682708400-1682712000@www.castlerockalc.com
SUMMARY:7:00pm.    Bible Study ~ Church (hosted by Linda)
DESCRIPTION:
URL:https://www.castlerockalc.com/event/700pm-bible-study-church-hosted-by-linda/
END:VEVENT
END:VCALENDAR