BEGIN:VCALENDAR
VERSION:2.0
PRODID:-//Castle Rock ALC - ECPv6.15.3//NONSGML v1.0//EN
CALSCALE:GREGORIAN
METHOD:PUBLISH
X-WR-CALNAME:Castle Rock ALC
X-ORIGINAL-URL:https://www.castlerockalc.com
X-WR-CALDESC:Events for Castle Rock ALC
REFRESH-INTERVAL;VALUE=DURATION:PT1H
X-Robots-Tag:noindex
X-PUBLISHED-TTL:PT1H
BEGIN:VTIMEZONE
TZID:UTC
BEGIN:STANDARD
TZOFFSETFROM:+0000
TZOFFSETTO:+0000
TZNAME:UTC
DTSTART:20260101T000000
END:STANDARD
END:VTIMEZONE
BEGIN:VEVENT
DTSTART;TZID=UTC:20260430T180000
DTEND;TZID=UTC:20260430T190000
DTSTAMP:20260423T192908
CREATED:20260416T005915Z
LAST-MODIFIED:20260416T005915Z
UID:3337-1777572000-1777575600@www.castlerockalc.com
SUMMARY:6:00pm.  Board Meeting - Church look p
DESCRIPTION:
URL:https://www.castlerockalc.com/event/600pm-board-meeting-church-look-p/
END:VEVENT
END:VCALENDAR