BEGIN:VCALENDAR
VERSION:2.0
PRODID:-//Castle Rock ALC - ECPv6.15.3//NONSGML v1.0//EN
CALSCALE:GREGORIAN
METHOD:PUBLISH
X-WR-CALNAME:Castle Rock ALC
X-ORIGINAL-URL:https://www.castlerockalc.com
X-WR-CALDESC:Events for Castle Rock ALC
REFRESH-INTERVAL;VALUE=DURATION:PT1H
X-Robots-Tag:noindex
X-PUBLISHED-TTL:PT1H
BEGIN:VTIMEZONE
TZID:UTC
BEGIN:STANDARD
TZOFFSETFROM:+0000
TZOFFSETTO:+0000
TZNAME:UTC
DTSTART:20240101T000000
END:STANDARD
END:VTIMEZONE
BEGIN:VEVENT
DTSTART;TZID=UTC:20240317T110000
DTEND;TZID=UTC:20240317T120000
DTSTAMP:20260425T160603
CREATED:20240301T164409Z
LAST-MODIFIED:20240301T165215Z
UID:2819-1710673200-1710676800@www.castlerockalc.com
SUMMARY:11am.  Joel Kandoll
DESCRIPTION:
URL:https://www.castlerockalc.com/event/11am-joel-kandoll-3/
END:VEVENT
BEGIN:VEVENT
DTSTART;TZID=UTC:20240322T190000
DTEND;TZID=UTC:20240322T200000
DTSTAMP:20260425T160603
CREATED:20240301T164858Z
LAST-MODIFIED:20240301T164858Z
UID:2827-1711134000-1711137600@www.castlerockalc.com
SUMMARY:7:00pm.  Bible Study at Allan & Diane Wirkkala’s
DESCRIPTION:
URL:https://www.castlerockalc.com/event/700pm-bible-study-at-allan-diane-wirkkalas/
END:VEVENT
BEGIN:VEVENT
DTSTART;TZID=UTC:20240324T110000
DTEND;TZID=UTC:20240324T120000
DTSTAMP:20260425T160603
CREATED:20240301T164458Z
LAST-MODIFIED:20240301T164458Z
UID:2821-1711278000-1711281600@www.castlerockalc.com
SUMMARY:11am.  Jimmy Maunu
DESCRIPTION:
URL:https://www.castlerockalc.com/event/11am-jimmy-maunu/
END:VEVENT
BEGIN:VEVENT
DTSTART;TZID=UTC:20240331T090000
DTEND;TZID=UTC:20240331T120000
DTSTAMP:20260425T160603
CREATED:20240301T164635Z
LAST-MODIFIED:20240301T165309Z
UID:2823-1711875600-1711886400@www.castlerockalc.com
SUMMARY:11am.  Greg Somero * Easter Brunch
DESCRIPTION:
URL:https://www.castlerockalc.com/event/11am-greg-somero-easter-brunch/
END:VEVENT
BEGIN:VEVENT
DTSTART;TZID=UTC:20240407T110000
DTEND;TZID=UTC:20240407T120000
DTSTAMP:20260425T160603
CREATED:20240330T235503Z
LAST-MODIFIED:20240330T235503Z
UID:2831-1712487600-1712491200@www.castlerockalc.com
SUMMARY:11:00am.  Joel Kandoll
DESCRIPTION:
URL:https://www.castlerockalc.com/event/1100am-joel-kandoll-13/
END:VEVENT
BEGIN:VEVENT
DTSTART;TZID=UTC:20240411T180000
DTEND;TZID=UTC:20240411T190000
DTSTAMP:20260425T160603
CREATED:20240331T000252Z
LAST-MODIFIED:20240331T000252Z
UID:2843-1712858400-1712862000@www.castlerockalc.com
SUMMARY:6:00pm.  Board Meeting at Dan and Paula’s
DESCRIPTION:
URL:https://www.castlerockalc.com/event/600pm-board-meeting-at-dan-and-paulas/
END:VEVENT
BEGIN:VEVENT
DTSTART;TZID=UTC:20240412T190000
DTEND;TZID=UTC:20240412T200000
DTSTAMP:20260425T160603
CREATED:20240331T000042Z
LAST-MODIFIED:20240331T000042Z
UID:2839-1712948400-1712952000@www.castlerockalc.com
SUMMARY:7:00pm.  Bible Study at Dave and Kristie’s
DESCRIPTION:
URL:https://www.castlerockalc.com/event/700pm-bible-study-at-dave-and-kristies/
END:VEVENT
BEGIN:VEVENT
DTSTART;TZID=UTC:20240414T110000
DTEND;TZID=UTC:20240414T120000
DTSTAMP:20260425T160603
CREATED:20240330T235623Z
LAST-MODIFIED:20240330T235623Z
UID:2833-1713092400-1713096000@www.castlerockalc.com
SUMMARY:11:00am.  Greg Somero * Communion * Meal
DESCRIPTION:
URL:https://www.castlerockalc.com/event/1100am-greg-somero-communion-meal-9/
END:VEVENT
BEGIN:VEVENT
DTSTART;TZID=UTC:20240421T110000
DTEND;TZID=UTC:20240421T120000
DTSTAMP:20260425T160603
CREATED:20240330T235737Z
LAST-MODIFIED:20240331T003941Z
UID:2835-1713697200-1713700800@www.castlerockalc.com
SUMMARY:11:00am.    Allan Wirkkala
DESCRIPTION:
URL:https://www.castlerockalc.com/event/1100am-tbd-meal/
END:VEVENT
BEGIN:VEVENT
DTSTART;TZID=UTC:20240426T190000
DTEND;TZID=UTC:20240426T200000
DTSTAMP:20260425T160603
CREATED:20240331T000145Z
LAST-MODIFIED:20240331T000145Z
UID:2841-1714158000-1714161600@www.castlerockalc.com
SUMMARY:7:00pm.   Bible Study at Joel and Elaine’s
DESCRIPTION:
URL:https://www.castlerockalc.com/event/700pm-bible-study-at-joel-and-elaines-2/
END:VEVENT
BEGIN:VEVENT
DTSTART;TZID=UTC:20240428T110000
DTEND;TZID=UTC:20240428T120000
DTSTAMP:20260425T160603
CREATED:20240330T235905Z
LAST-MODIFIED:20240421T193238Z
UID:2837-1714302000-1714305600@www.castlerockalc.com
SUMMARY:11:00am.  Jimmy Maunu
DESCRIPTION:
URL:https://www.castlerockalc.com/event/1100am-greg-somero-14/
END:VEVENT
BEGIN:VEVENT
DTSTART;TZID=UTC:20240505T110000
DTEND;TZID=UTC:20240505T120000
DTSTAMP:20260425T160603
CREATED:20240430T204355Z
LAST-MODIFIED:20240430T204355Z
UID:2850-1714906800-1714910400@www.castlerockalc.com
SUMMARY:11:00am.  Joel Kandoll
DESCRIPTION:
URL:https://www.castlerockalc.com/event/1100am-joel-kandoll-14/
END:VEVENT
BEGIN:VEVENT
DTSTART;TZID=UTC:20240510T190000
DTEND;TZID=UTC:20240510T200000
DTSTAMP:20260425T160603
CREATED:20240430T204947Z
LAST-MODIFIED:20240430T204947Z
UID:2858-1715367600-1715371200@www.castlerockalc.com
SUMMARY:7:00pm. Bible Study at the Church
DESCRIPTION:
URL:https://www.castlerockalc.com/event/700pm-bible-study-at-the-church-3/
END:VEVENT
BEGIN:VEVENT
DTSTART;TZID=UTC:20240512T110000
DTEND;TZID=UTC:20240512T120000
DTSTAMP:20260425T160603
CREATED:20240430T204550Z
LAST-MODIFIED:20240430T204550Z
UID:2852-1715511600-1715515200@www.castlerockalc.com
SUMMARY:11:00am   Greg Somero * Communion * No Meal
DESCRIPTION:
URL:https://www.castlerockalc.com/event/1100am-greg-somero-communion-no-meal/
END:VEVENT
BEGIN:VEVENT
DTSTART;TZID=UTC:20240519T110000
DTEND;TZID=UTC:20240519T120000
DTSTAMP:20260425T160603
CREATED:20240430T204656Z
LAST-MODIFIED:20240430T204656Z
UID:2854-1716116400-1716120000@www.castlerockalc.com
SUMMARY:11:00am.  Tom Lappi * Meal
DESCRIPTION:
URL:https://www.castlerockalc.com/event/1100am-tom-lappi-meal-2/
END:VEVENT
BEGIN:VEVENT
DTSTART;TZID=UTC:20240524T190000
DTEND;TZID=UTC:20240524T190000
DTSTAMP:20260425T160603
CREATED:20240430T205312Z
LAST-MODIFIED:20240430T205312Z
UID:2860-1716577200-1716577200@www.castlerockalc.com
SUMMARY:No Bible Study
DESCRIPTION:
URL:https://www.castlerockalc.com/event/no-bible-study-2/
END:VEVENT
BEGIN:VEVENT
DTSTART;TZID=UTC:20240526T110000
DTEND;TZID=UTC:20240526T120000
DTSTAMP:20260425T160603
CREATED:20240430T204800Z
LAST-MODIFIED:20240520T044012Z
UID:2856-1716721200-1716724800@www.castlerockalc.com
SUMMARY:11:00am.  Cancelled - No church service
DESCRIPTION:
URL:https://www.castlerockalc.com/event/1100am-greg-somero-15/
END:VEVENT
BEGIN:VEVENT
DTSTART;TZID=UTC:20240602T110000
DTEND;TZID=UTC:20240602T120000
DTSTAMP:20260425T160603
CREATED:20240601T015602Z
LAST-MODIFIED:20240601T015602Z
UID:2863-1717326000-1717329600@www.castlerockalc.com
SUMMARY:11:00am. Greg Somero
DESCRIPTION:
URL:https://www.castlerockalc.com/event/1100am-greg-somero-16/
END:VEVENT
BEGIN:VEVENT
DTSTART;TZID=UTC:20240609T110000
DTEND;TZID=UTC:20240609T140000
DTSTAMP:20260425T160603
CREATED:20240601T015744Z
LAST-MODIFIED:20240601T020216Z
UID:2865-1717930800-1717941600@www.castlerockalc.com
SUMMARY:11:00am. Greg Somero * Communion * Meal * Birthday Celebration
DESCRIPTION:
URL:https://www.castlerockalc.com/event/1100am-greg-somero-meal-birthday-celebration/
END:VEVENT
BEGIN:VEVENT
DTSTART;TZID=UTC:20240616T110000
DTEND;TZID=UTC:20240616T120000
DTSTAMP:20260425T160603
CREATED:20240601T015907Z
LAST-MODIFIED:20240601T015907Z
UID:2867-1718535600-1718539200@www.castlerockalc.com
SUMMARY:11:00am.  Jimmy Maunu
DESCRIPTION:
URL:https://www.castlerockalc.com/event/1100am-jimmy-maunu/
END:VEVENT
BEGIN:VEVENT
DTSTART;TZID=UTC:20240623T110000
DTEND;TZID=UTC:20240623T120000
DTSTAMP:20260425T160603
CREATED:20240601T020012Z
LAST-MODIFIED:20240601T020115Z
UID:2869-1719140400-1719144000@www.castlerockalc.com
SUMMARY:11:00am.  Kim Mickelson * Meal
DESCRIPTION:
URL:https://www.castlerockalc.com/event/1100am-kim-mickelson-meal/
END:VEVENT
BEGIN:VEVENT
DTSTART;VALUE=DATE:20240630
DTEND;VALUE=DATE:20240701
DTSTAMP:20260425T160603
CREATED:20240603T223325Z
LAST-MODIFIED:20240603T223325Z
UID:2872-1719705600-1719791999@www.castlerockalc.com
SUMMARY:Church Cancelled - Convention at Hockinson ALC
DESCRIPTION:
URL:https://www.castlerockalc.com/event/church-cancelled-convention-at-hockinson-alc/
END:VEVENT
BEGIN:VEVENT
DTSTART;TZID=UTC:20240707T110000
DTEND;TZID=UTC:20240707T120000
DTSTAMP:20260425T160603
CREATED:20240702T054801Z
LAST-MODIFIED:20240702T054801Z
UID:2874-1720350000-1720353600@www.castlerockalc.com
SUMMARY:11:00am.  Joel Kandoll
DESCRIPTION:
URL:https://www.castlerockalc.com/event/1100am-joel-kandoll-15/
END:VEVENT
BEGIN:VEVENT
DTSTART;TZID=UTC:20240714T110000
DTEND;TZID=UTC:20240714T120000
DTSTAMP:20260425T160603
CREATED:20240702T054946Z
LAST-MODIFIED:20240712T173752Z
UID:2876-1720954800-1720958400@www.castlerockalc.com
SUMMARY:11:00am.  Greg Somero * Communion * Meal Cancelled
DESCRIPTION:
URL:https://www.castlerockalc.com/event/1100am-greg-somero-communion-meal-10/
END:VEVENT
BEGIN:VEVENT
DTSTART;TZID=UTC:20240721T110000
DTEND;TZID=UTC:20240721T120000
DTSTAMP:20260425T160603
CREATED:20240702T055035Z
LAST-MODIFIED:20240714T043105Z
UID:2878-1721559600-1721563200@www.castlerockalc.com
SUMMARY:11:00am.  Allan Wirkkala
DESCRIPTION:
URL:https://www.castlerockalc.com/event/tbd/
END:VEVENT
BEGIN:VEVENT
DTSTART;TZID=UTC:20240728T110000
DTEND;TZID=UTC:20240728T120000
DTSTAMP:20260425T160603
CREATED:20240702T055137Z
LAST-MODIFIED:20240702T055137Z
UID:2880-1722164400-1722168000@www.castlerockalc.com
SUMMARY:11:00am.  Greg Somero
DESCRIPTION:
URL:https://www.castlerockalc.com/event/1100am-greg-somero-17/
END:VEVENT
BEGIN:VEVENT
DTSTART;TZID=UTC:20240804T110000
DTEND;TZID=UTC:20240804T120000
DTSTAMP:20260425T160603
CREATED:20240801T004901Z
LAST-MODIFIED:20240801T004901Z
UID:2884-1722769200-1722772800@www.castlerockalc.com
SUMMARY:11:00am.  Joel Kandoll
DESCRIPTION:
URL:https://www.castlerockalc.com/event/1100am-joel-kandoll-16/
END:VEVENT
BEGIN:VEVENT
DTSTART;TZID=UTC:20240805T100000
DTEND;TZID=UTC:20240809T133000
DTSTAMP:20260425T160603
CREATED:20240801T005907Z
LAST-MODIFIED:20240801T010103Z
UID:2895-1722852000-1723210200@www.castlerockalc.com
SUMMARY:10am to 1:30pm.   Castle Rock Kids’ Meals
DESCRIPTION:
URL:https://www.castlerockalc.com/event/10am-to-130pm-castle-rock-kids-meals-st-pauls-lutheran-church/
END:VEVENT
BEGIN:VEVENT
DTSTART;TZID=UTC:20240811T110000
DTEND;TZID=UTC:20240811T120000
DTSTAMP:20260425T160603
CREATED:20240801T005146Z
LAST-MODIFIED:20240801T005146Z
UID:2886-1723374000-1723377600@www.castlerockalc.com
SUMMARY:11:00am.  Jim Maunu * Communion
DESCRIPTION:
URL:https://www.castlerockalc.com/event/1100am-jim-maunu-communion/
END:VEVENT
BEGIN:VEVENT
DTSTART;TZID=UTC:20240817T080000
DTEND;TZID=UTC:20240817T130000
DTSTAMP:20260425T160603
CREATED:20240801T005444Z
LAST-MODIFIED:20240801T221220Z
UID:2892-1723881600-1723899600@www.castlerockalc.com
SUMMARY:8:00am.  Work Day at Church ~ Breakfast by Elaine
DESCRIPTION:
URL:https://www.castlerockalc.com/event/800am-work-day-at-church/
END:VEVENT
END:VCALENDAR