BEGIN:VCALENDAR
VERSION:2.0
PRODID:-//Castle Rock ALC - ECPv6.15.3//NONSGML v1.0//EN
CALSCALE:GREGORIAN
METHOD:PUBLISH
X-WR-CALNAME:Castle Rock ALC
X-ORIGINAL-URL:https://www.castlerockalc.com
X-WR-CALDESC:Events for Castle Rock ALC
REFRESH-INTERVAL;VALUE=DURATION:PT1H
X-Robots-Tag:noindex
X-PUBLISHED-TTL:PT1H
BEGIN:VTIMEZONE
TZID:UTC
BEGIN:STANDARD
TZOFFSETFROM:+0000
TZOFFSETTO:+0000
TZNAME:UTC
DTSTART:20250101T000000
END:STANDARD
END:VTIMEZONE
BEGIN:VEVENT
DTSTART;TZID=UTC:20260215T110000
DTEND;TZID=UTC:20260215T120000
DTSTAMP:20260423T225927
CREATED:20260131T003004Z
LAST-MODIFIED:20260202T011554Z
UID:3283-1771153200-1771156800@www.castlerockalc.com
SUMMARY:11:00am.  Joel Kandoll
DESCRIPTION:
URL:https://www.castlerockalc.com/event/1100am-joel-kandoll-22/
END:VEVENT
BEGIN:VEVENT
DTSTART;TZID=UTC:20260213T190000
DTEND;TZID=UTC:20260213T200000
DTSTAMP:20260423T225927
CREATED:20260131T003156Z
LAST-MODIFIED:20260131T003156Z
UID:3288-1771009200-1771012800@www.castlerockalc.com
SUMMARY:7:00pm.  Bible Study at the Church
DESCRIPTION:
URL:https://www.castlerockalc.com/event/700pm-bible-study-at-the-church-6/
END:VEVENT
BEGIN:VEVENT
DTSTART;TZID=UTC:20260210T113000
DTEND;TZID=UTC:20260210T133000
DTSTAMP:20260423T225927
CREATED:20260131T003357Z
LAST-MODIFIED:20260131T003517Z
UID:3294-1770723000-1770730200@www.castlerockalc.com
SUMMARY:11:30am.    Ladies Lunch at Country Folks Deli
DESCRIPTION:
URL:https://www.castlerockalc.com/event/1130am-ladies-lunch-at-country-folks-deli/
END:VEVENT
BEGIN:VEVENT
DTSTART;TZID=UTC:20260208T110000
DTEND;TZID=UTC:20260208T120000
DTSTAMP:20260423T225927
CREATED:20260131T002902Z
LAST-MODIFIED:20260131T003723Z
UID:3281-1770548400-1770552000@www.castlerockalc.com
SUMMARY:11:00am.   Greg Somero * Communion * Meal
DESCRIPTION:
URL:https://www.castlerockalc.com/event/1100am-greg-somero-communion-meal-18/
END:VEVENT
BEGIN:VEVENT
DTSTART;TZID=UTC:20260201T110000
DTEND;TZID=UTC:20260201T120000
DTSTAMP:20260423T225927
CREATED:20260131T002749Z
LAST-MODIFIED:20260131T002749Z
UID:3279-1769943600-1769947200@www.castlerockalc.com
SUMMARY:11:00am.   Aaron Hendrickson
DESCRIPTION:
URL:https://www.castlerockalc.com/event/1100am-aaron-hendrickson-3/
END:VEVENT
BEGIN:VEVENT
DTSTART;TZID=UTC:20260125T110000
DTEND;TZID=UTC:20260125T120000
DTSTAMP:20260423T225927
CREATED:20260101T232841Z
LAST-MODIFIED:20260101T232841Z
UID:3256-1769338800-1769342400@www.castlerockalc.com
SUMMARY:11:00am.   Greg Somero
DESCRIPTION:
URL:https://www.castlerockalc.com/event/1100am-greg-somero-28/
END:VEVENT
BEGIN:VEVENT
DTSTART;TZID=UTC:20260124T180000
DTEND;TZID=UTC:20260124T200000
DTSTAMP:20260423T225927
CREATED:20260101T233137Z
LAST-MODIFIED:20260101T233137Z
UID:3260-1769277600-1769284800@www.castlerockalc.com
SUMMARY:6:00pm.   Annual Meeting at Church
DESCRIPTION:
URL:https://www.castlerockalc.com/event/600pm-annual-meeting-at-church/
END:VEVENT
BEGIN:VEVENT
DTSTART;TZID=UTC:20260123T190000
DTEND;TZID=UTC:20260123T200000
DTSTAMP:20260423T225927
CREATED:20260101T233611Z
LAST-MODIFIED:20260103T142208Z
UID:3265-1769194800-1769198400@www.castlerockalc.com
SUMMARY:7:00pm.      Bible Study at Beth Wirkkala’s
DESCRIPTION:
URL:https://www.castlerockalc.com/event/700pm-bible-study-4/
END:VEVENT
BEGIN:VEVENT
DTSTART;TZID=UTC:20260118T110000
DTEND;TZID=UTC:20260118T120000
DTSTAMP:20260423T225927
CREATED:20260101T232232Z
LAST-MODIFIED:20260101T232232Z
UID:3254-1768734000-1768737600@www.castlerockalc.com
SUMMARY:11:00am.   Allan Wirkkala
DESCRIPTION:
URL:https://www.castlerockalc.com/event/1100am-allan-wirkkala-7/
END:VEVENT
BEGIN:VEVENT
DTSTART;TZID=UTC:20260113T113000
DTEND;TZID=UTC:20260113T133000
DTSTAMP:20260423T225927
CREATED:20260101T233010Z
LAST-MODIFIED:20260101T233010Z
UID:3258-1768303800-1768311000@www.castlerockalc.com
SUMMARY:11:30am.   Ladies Lunch ~ Amaro’s\, Castle Rock
DESCRIPTION:
URL:https://www.castlerockalc.com/event/1130am-ladies-lunch-amaros-castle-rock/
END:VEVENT
BEGIN:VEVENT
DTSTART;TZID=UTC:20260111T110000
DTEND;TZID=UTC:20260111T120000
DTSTAMP:20260423T225927
CREATED:20260101T232102Z
LAST-MODIFIED:20260101T232622Z
UID:3252-1768129200-1768132800@www.castlerockalc.com
SUMMARY:11:00am.   Greg Somero * Communion * Meal
DESCRIPTION:
URL:https://www.castlerockalc.com/event/1100am-greg-somero-communion-meal-17/
END:VEVENT
BEGIN:VEVENT
DTSTART;TZID=UTC:20260109T190000
DTEND;TZID=UTC:20260109T200000
DTSTAMP:20260423T225927
CREATED:20260101T233523Z
LAST-MODIFIED:20260102T090914Z
UID:3263-1767985200-1767988800@www.castlerockalc.com
SUMMARY:7:00pm.     Bible Study at Church
DESCRIPTION:
URL:https://www.castlerockalc.com/event/700pm-bible-study-3/
END:VEVENT
BEGIN:VEVENT
DTSTART;TZID=UTC:20260104T110000
DTEND;TZID=UTC:20260104T120000
DTSTAMP:20260423T225927
CREATED:20260101T231951Z
LAST-MODIFIED:20260101T232658Z
UID:3250-1767524400-1767528000@www.castlerockalc.com
SUMMARY:11:00am.    Joel Kandoll
DESCRIPTION:
URL:https://www.castlerockalc.com/event/1100am-joel-kandoll-21/
END:VEVENT
BEGIN:VEVENT
DTSTART;TZID=UTC:20251228T110000
DTEND;TZID=UTC:20251228T120000
DTSTAMP:20260423T225927
CREATED:20251213T235312Z
LAST-MODIFIED:20251213T235312Z
UID:3239-1766919600-1766923200@www.castlerockalc.com
SUMMARY:11am.    Donny Matson
DESCRIPTION:
URL:https://www.castlerockalc.com/event/11am-donny-matson/
END:VEVENT
BEGIN:VEVENT
DTSTART;TZID=UTC:20251221T110000
DTEND;TZID=UTC:20251221T120000
DTSTAMP:20260423T225927
CREATED:20251213T235139Z
LAST-MODIFIED:20251213T235139Z
UID:3237-1766314800-1766318400@www.castlerockalc.com
SUMMARY:11am.    Burt Farley
DESCRIPTION:
URL:https://www.castlerockalc.com/event/11am-burt-farley/
END:VEVENT
BEGIN:VEVENT
DTSTART;TZID=UTC:20251219T190000
DTEND;TZID=UTC:20251219T200000
DTSTAMP:20260423T225927
CREATED:20251213T235428Z
LAST-MODIFIED:20251213T235855Z
UID:3245-1766170800-1766174400@www.castlerockalc.com
SUMMARY:7:00pm.    Advent Service ~ Joel Kandoll
DESCRIPTION:
URL:https://www.castlerockalc.com/event/700pm/
END:VEVENT
BEGIN:VEVENT
DTSTART;TZID=UTC:20251214T110000
DTEND;TZID=UTC:20251214T120000
DTSTAMP:20260423T225927
CREATED:20251213T235019Z
LAST-MODIFIED:20251213T235019Z
UID:3235-1765710000-1765713600@www.castlerockalc.com
SUMMARY:11am.   Greg Somero * Communion
DESCRIPTION:
URL:https://www.castlerockalc.com/event/11am-greg-somero-communion-6/
END:VEVENT
BEGIN:VEVENT
DTSTART;TZID=UTC:20251130T110000
DTEND;TZID=UTC:20251130T120000
DTSTAMP:20260423T225927
CREATED:20251031T225117Z
LAST-MODIFIED:20251031T225117Z
UID:3187-1764500400-1764504000@www.castlerockalc.com
SUMMARY:11am  Kim Mickelson * Meal
DESCRIPTION:
URL:https://www.castlerockalc.com/event/11am-kim-mickelson-meal/
END:VEVENT
BEGIN:VEVENT
DTSTART;TZID=UTC:20251123T110000
DTEND;TZID=UTC:20251123T120000
DTSTAMP:20260423T225927
CREATED:20251031T225005Z
LAST-MODIFIED:20251031T225005Z
UID:3185-1763895600-1763899200@www.castlerockalc.com
SUMMARY:11am   Greg Somero
DESCRIPTION:
URL:https://www.castlerockalc.com/event/11am-greg-somero-5/
END:VEVENT
BEGIN:VEVENT
DTSTART;TZID=UTC:20251116T110000
DTEND;TZID=UTC:20251116T120000
DTSTAMP:20260423T225927
CREATED:20251031T224523Z
LAST-MODIFIED:20251031T224523Z
UID:3181-1763290800-1763294400@www.castlerockalc.com
SUMMARY:11am  Ron Holmgren
DESCRIPTION:
URL:https://www.castlerockalc.com/event/11am-ron-holmgren/
END:VEVENT
BEGIN:VEVENT
DTSTART;TZID=UTC:20251114T190000
DTEND;TZID=UTC:20251114T200000
DTSTAMP:20260423T225927
CREATED:20251031T224739Z
LAST-MODIFIED:20251031T224739Z
UID:3183-1763146800-1763150400@www.castlerockalc.com
SUMMARY:7pm  Bible Study - Dan and Paula’s
DESCRIPTION:
URL:https://www.castlerockalc.com/event/7pm-bible-study-dan-and-paulas/
END:VEVENT
BEGIN:VEVENT
DTSTART;TZID=UTC:20251111T113000
DTEND;TZID=UTC:20251111T130000
DTSTAMP:20260423T225927
CREATED:20251031T223924Z
LAST-MODIFIED:20251031T224409Z
UID:3179-1762860600-1762866000@www.castlerockalc.com
SUMMARY:11:30am  Ladies Lunch - Amaro’s Table\, Castle Rock
DESCRIPTION:
URL:https://www.castlerockalc.com/event/1130am-ladies-lunch-amaros-table-castle-rock/
END:VEVENT
BEGIN:VEVENT
DTSTART;TZID=UTC:20251109T110000
DTEND;TZID=UTC:20251109T120000
DTSTAMP:20260423T225927
CREATED:20251031T223744Z
LAST-MODIFIED:20251031T223744Z
UID:3177-1762686000-1762689600@www.castlerockalc.com
SUMMARY:11am  Greg Somero * Communion
DESCRIPTION:
URL:https://www.castlerockalc.com/event/11am-greg-somero-communion-5/
END:VEVENT
BEGIN:VEVENT
DTSTART;TZID=UTC:20251102T110000
DTEND;TZID=UTC:20251102T120000
DTSTAMP:20260423T225927
CREATED:20251031T225423Z
LAST-MODIFIED:20251031T225423Z
UID:3175-1762081200-1762084800@www.castlerockalc.com
SUMMARY:11am. Greg Somero Ordination/Central Board/Joel Kandoll/Meal
DESCRIPTION:
URL:https://www.castlerockalc.com/event/11am-greg-somero-ordination-central-board-joel-kandoll-meal/
END:VEVENT
BEGIN:VEVENT
DTSTART;TZID=UTC:20251026T110000
DTEND;TZID=UTC:20251026T120000
DTSTAMP:20260423T225927
CREATED:20251003T171807Z
LAST-MODIFIED:20251003T171807Z
UID:3138-1761476400-1761480000@www.castlerockalc.com
SUMMARY:11:00am.   Greg Somero
DESCRIPTION:
URL:https://www.castlerockalc.com/event/1100am-greg-somero-27/
END:VEVENT
BEGIN:VEVENT
DTSTART;TZID=UTC:20251024T190000
DTEND;TZID=UTC:20251024T200000
DTSTAMP:20260423T225927
CREATED:20251003T220013Z
LAST-MODIFIED:20251003T220013Z
UID:3158-1761332400-1761336000@www.castlerockalc.com
SUMMARY:7:00pm.  Bible Study at the Church
DESCRIPTION:
URL:https://www.castlerockalc.com/event/700pm-bible-study-at-the-church-8/
END:VEVENT
BEGIN:VEVENT
DTSTART;TZID=UTC:20251019T110000
DTEND;TZID=UTC:20251019T120000
DTSTAMP:20260423T225927
CREATED:20251003T171650Z
LAST-MODIFIED:20251009T184439Z
UID:3136-1760871600-1760875200@www.castlerockalc.com
SUMMARY:11:00am.  Jim Maunu * Meal
DESCRIPTION:
URL:https://www.castlerockalc.com/event/1100am-tba-meal/
END:VEVENT
BEGIN:VEVENT
DTSTART;TZID=UTC:20251012T110000
DTEND;TZID=UTC:20251012T120000
DTSTAMP:20260423T225927
CREATED:20251003T165926Z
LAST-MODIFIED:20251007T142327Z
UID:3123-1760266800-1760270400@www.castlerockalc.com
SUMMARY:11:00am.  Greg Somero * Communion * No Meal
DESCRIPTION:
URL:https://www.castlerockalc.com/event/1100am-greg-somero-communion-pastor-appreciation-meal/
END:VEVENT
BEGIN:VEVENT
DTSTART;TZID=UTC:20251010T190000
DTEND;TZID=UTC:20251010T200000
DTSTAMP:20260423T225927
CREATED:20251003T215840Z
LAST-MODIFIED:20251003T215840Z
UID:3156-1760122800-1760126400@www.castlerockalc.com
SUMMARY:7:00pm.   Bible Study at Dave and Kristie’s
DESCRIPTION:
URL:https://www.castlerockalc.com/event/700pm-bible-study-at-dave-and-kristies-3/
END:VEVENT
BEGIN:VEVENT
DTSTART;TZID=UTC:20251009T113000
DTEND;TZID=UTC:20251009T130000
DTSTAMP:20260423T225927
CREATED:20251003T172153Z
LAST-MODIFIED:20251003T172153Z
UID:3147-1760009400-1760014800@www.castlerockalc.com
SUMMARY:11:30am.    Ladies Lunch at the Corner Cafe
DESCRIPTION:
URL:https://www.castlerockalc.com/event/1130am-ladies-lunch-at-the-corner-cafe/
END:VEVENT
END:VCALENDAR