BEGIN:VCALENDAR
VERSION:2.0
PRODID:-//Castle Rock ALC - ECPv6.15.3//NONSGML v1.0//EN
CALSCALE:GREGORIAN
METHOD:PUBLISH
X-ORIGINAL-URL:https://www.castlerockalc.com
X-WR-CALDESC:Events for Castle Rock ALC
REFRESH-INTERVAL;VALUE=DURATION:PT1H
X-Robots-Tag:noindex
X-PUBLISHED-TTL:PT1H
BEGIN:VTIMEZONE
TZID:UTC
BEGIN:STANDARD
TZOFFSETFROM:+0000
TZOFFSETTO:+0000
TZNAME:UTC
DTSTART:20250101T000000
END:STANDARD
END:VTIMEZONE
BEGIN:VEVENT
DTSTART;TZID=UTC:20250614T180000
DTEND;TZID=UTC:20250614T190000
DTSTAMP:20260424T094405
CREATED:20250530T213122Z
LAST-MODIFIED:20250530T213122Z
UID:3056-1749924000-1749927600@www.castlerockalc.com
SUMMARY:6:00pm.  Semi-Annual Meeting at church
DESCRIPTION:
URL:https://www.castlerockalc.com/event/600pm-semi-annual-meeting-at-church/
END:VEVENT
END:VCALENDAR