BEGIN:VCALENDAR
VERSION:2.0
PRODID:-//Castle Rock ALC - ECPv6.15.3//NONSGML v1.0//EN
CALSCALE:GREGORIAN
METHOD:PUBLISH
X-ORIGINAL-URL:https://www.castlerockalc.com
X-WR-CALDESC:Events for Castle Rock ALC
REFRESH-INTERVAL;VALUE=DURATION:PT1H
X-Robots-Tag:noindex
X-PUBLISHED-TTL:PT1H
BEGIN:VTIMEZONE
TZID:UTC
BEGIN:STANDARD
TZOFFSETFROM:+0000
TZOFFSETTO:+0000
TZNAME:UTC
DTSTART:20250101T000000
END:STANDARD
END:VTIMEZONE
BEGIN:VEVENT
DTSTART;TZID=UTC:20250214T190000
DTEND;TZID=UTC:20250214T200000
DTSTAMP:20260424T165044
CREATED:20250131T014431Z
LAST-MODIFIED:20250210T171853Z
UID:2993-1739559600-1739563200@www.castlerockalc.com
SUMMARY:7:00pm.  ❤️  Bible Study - Dave and Kristie Kandoll
DESCRIPTION:
URL:https://www.castlerockalc.com/event/700pm-%e2%9d%a4%ef%b8%8f-bible-study-beth-wirkkalas/
END:VEVENT
END:VCALENDAR