BEGIN:VCALENDAR
VERSION:2.0
PRODID:-//Castle Rock ALC - ECPv6.15.3//NONSGML v1.0//EN
CALSCALE:GREGORIAN
METHOD:PUBLISH
X-WR-CALNAME:Castle Rock ALC
X-ORIGINAL-URL:https://www.castlerockalc.com
X-WR-CALDESC:Events for Castle Rock ALC
REFRESH-INTERVAL;VALUE=DURATION:PT1H
X-Robots-Tag:noindex
X-PUBLISHED-TTL:PT1H
BEGIN:VTIMEZONE
TZID:UTC
BEGIN:STANDARD
TZOFFSETFROM:+0000
TZOFFSETTO:+0000
TZNAME:UTC
DTSTART:20250101T000000
END:STANDARD
END:VTIMEZONE
BEGIN:VEVENT
DTSTART;TZID=UTC:20250209T110000
DTEND;TZID=UTC:20250209T120000
DTSTAMP:20260424T165015
CREATED:20250131T014021Z
LAST-MODIFIED:20250131T014021Z
UID:2987-1739098800-1739102400@www.castlerockalc.com
SUMMARY:11:00am.  Greg Somero * Communion * Meal
DESCRIPTION:
URL:https://www.castlerockalc.com/event/1100am-greg-somero-communion-meal-14/
END:VEVENT
END:VCALENDAR