BEGIN:VCALENDAR
VERSION:2.0
PRODID:-//Castle Rock ALC - ECPv6.15.3//NONSGML v1.0//EN
CALSCALE:GREGORIAN
METHOD:PUBLISH
X-WR-CALNAME:Castle Rock ALC
X-ORIGINAL-URL:https://www.castlerockalc.com
X-WR-CALDESC:Events for Castle Rock ALC
REFRESH-INTERVAL;VALUE=DURATION:PT1H
X-Robots-Tag:noindex
X-PUBLISHED-TTL:PT1H
BEGIN:VTIMEZONE
TZID:UTC
BEGIN:STANDARD
TZOFFSETFROM:+0000
TZOFFSETTO:+0000
TZNAME:UTC
DTSTART:20240101T000000
END:STANDARD
END:VTIMEZONE
BEGIN:VEVENT
DTSTART;TZID=UTC:20241214T180000
DTEND;TZID=UTC:20241214T190000
DTSTAMP:20260424T201135
CREATED:20241201T152559Z
LAST-MODIFIED:20241201T152632Z
UID:2969-1734199200-1734202800@www.castlerockalc.com
SUMMARY:6pm.  Board Meeting at Dan and Paula’s
DESCRIPTION:
URL:https://www.castlerockalc.com/event/6pm-board-meeting-at-dan-and-paulas/
END:VEVENT
END:VCALENDAR