BEGIN:VCALENDAR
VERSION:2.0
PRODID:-//Castle Rock ALC - ECPv6.15.3//NONSGML v1.0//EN
CALSCALE:GREGORIAN
METHOD:PUBLISH
X-WR-CALNAME:Castle Rock ALC
X-ORIGINAL-URL:https://www.castlerockalc.com
X-WR-CALDESC:Events for Castle Rock ALC
REFRESH-INTERVAL;VALUE=DURATION:PT1H
X-Robots-Tag:noindex
X-PUBLISHED-TTL:PT1H
BEGIN:VTIMEZONE
TZID:UTC
BEGIN:STANDARD
TZOFFSETFROM:+0000
TZOFFSETTO:+0000
TZNAME:UTC
DTSTART:20240101T000000
END:STANDARD
END:VTIMEZONE
BEGIN:VEVENT
DTSTART;TZID=UTC:20241011T190000
DTEND;TZID=UTC:20241011T200000
DTSTAMP:20260424T232047
CREATED:20241003T014000Z
LAST-MODIFIED:20241005T003356Z
UID:2925-1728673200-1728676800@www.castlerockalc.com
SUMMARY:7:00pm.   Bible Study ~ Beth Wirkkala
DESCRIPTION:
URL:https://www.castlerockalc.com/event/700pm-bible-study-beth-wirkkala/
END:VEVENT
END:VCALENDAR