BEGIN:VCALENDAR
VERSION:2.0
PRODID:-//Castle Rock ALC - ECPv6.15.3//NONSGML v1.0//EN
CALSCALE:GREGORIAN
METHOD:PUBLISH
X-WR-CALNAME:Castle Rock ALC
X-ORIGINAL-URL:https://www.castlerockalc.com
X-WR-CALDESC:Events for Castle Rock ALC
REFRESH-INTERVAL;VALUE=DURATION:PT1H
X-Robots-Tag:noindex
X-PUBLISHED-TTL:PT1H
BEGIN:VTIMEZONE
TZID:UTC
BEGIN:STANDARD
TZOFFSETFROM:+0000
TZOFFSETTO:+0000
TZNAME:UTC
DTSTART:20230101T000000
END:STANDARD
END:VTIMEZONE
BEGIN:VEVENT
DTSTART;TZID=UTC:20231118T080000
DTEND;TZID=UTC:20231118T090000
DTSTAMP:20260425T160326
CREATED:20231031T233236Z
LAST-MODIFIED:20231031T233236Z
UID:2755-1700294400-1700298000@www.castlerockalc.com
SUMMARY:8:00am.   Men’s Breakfast at the Church
DESCRIPTION:
URL:https://www.castlerockalc.com/event/800am-mens-breakfast-at-the-church/
END:VEVENT
END:VCALENDAR